BEGIN:VCALENDAR
VERSION:2.0
PRODID:-//ChamberMaster//Event Calendar 2.0//EN
METHOD:PUBLISH
X-PUBLISHED-TTL:P3D
REFRESH-INTERVAL:P3D
CALSCALE:GREGORIAN
BEGIN:VEVENT
DTSTART:20250225T160000Z
DTEND:20250225T173000Z
X-MICROSOFT-CDO-ALLDAYEVENT:FALSE
SUMMARY:DIY Your Website Like a Pro
DESCRIPTION:A social media page isn't enough\, your business needs a strong website to build credibility and attract customers. But where do you start? With so many website platforms\, design choices\, and technical terms\, it can feel overwhelming. This workshop will break it down into simple\, actionable steps so you can build a website that helps turn visitors into customers.\n\nTopics covered:\n\n\n	Make your business stand out with a clear brand identity.\n	Create text\, images\, and videos that connect with customers.\n	Design a website that's easy to navigate.\n	Use SEO to get found on Google with the right keywords and structure.\n	Explore platforms like WordPress\, Wix\, and more to find the best fit.\n\n\nDon't miss this opportunity to learn how to create a website that attracts customers and helps your business grow. Register now.
X-ALT-DESC;FMTTYPE=text/html:<div>\n<div>\n<p>A social media page isn&rsquo\;t enough\, your business needs a strong website to build credibility and attract customers. But where do you start? With so many website platforms\, design choices\, and technical terms\, it can feel overwhelming. This workshop will break it down into simple\, actionable steps so you can build a website that helps turn visitors into customers.</p>\n\n<p>Topics covered:</p>\n\n<ul>\n	<li>Make your business stand out with a clear brand identity.</li>\n	<li>Create text\, images\, and videos that connect with customers.</li>\n	<li>Design a website that&rsquo\;s easy to navigate.</li>\n	<li>Use SEO to get found on Google with the right keywords and structure.</li>\n	<li>Explore platforms like WordPress\, Wix\, and more to find the best fit.</li>\n</ul>\n\n<p>Don&#39\;t miss this opportunity to learn how to create a website that attracts customers and helps your business grow. Register now.</p>\n\n<div>&nbsp\;</div>\n</div>\n</div>\n\n<div data-testid="image-content">\n<div>\n<div>&nbsp\;</div>\n</div>\n</div>\n
LOCATION:Online
UID:e.818.21234
SEQUENCE:3
DTSTAMP:20260423T092314Z
URL:https://business.hispanicchambercincinnati.com/events/details/diy-your-website-like-a-pro-21234
END:VEVENT

END:VCALENDAR
