BEGIN:VCALENDAR
VERSION:2.0
PRODID:-//ChamberMaster//Event Calendar 2.0//EN
METHOD:PUBLISH
X-PUBLISHED-TTL:P3D
REFRESH-INTERVAL:P3D
CALSCALE:GREGORIAN
BEGIN:VEVENT
DTSTART:20240925T210000Z
DTEND:20240925T230000Z
X-MICROSOFT-CDO-ALLDAYEVENT:FALSE
SUMMARY:Elevating Competition: The Pursuit of Excellence in Women’s Athletics
DESCRIPTION:Join President Cady Short-Thompson\, Vice President and Director of Athletics Christina Roybal\, and fellow Women for NKU members for cocktails and light bites to learn more about how NKU is elevating competition in women's athletics. We will be joined by a special guest and Head Coach for NKU women's basketball team\, Jeff Hans.\n\nWednesday\, September 25\, 2024\n\n5 7 p.m.\n\n \n\nCrafts & Vines\n\n642 Main Street\n\nCovington\, KY 41011
X-ALT-DESC;FMTTYPE=text/html:<p>Join President Cady Short-Thompson\, Vice President and Director of Athletics Christina Roybal\, and fellow Women for NKU members for cocktails and light bites to learn more about how NKU is elevating competition in women&#39\;s athletics. We will be joined by a special guest and Head Coach for NKU women&#39\;s basketball team\, Jeff Hans.</p>\n\n<p>Wednesday\, September 25\, 2024<br />\n5&ndash\;7 p.m.</p>\n\n<p>&nbsp\;</p>\n\n<p><a href="https://www.google.com/maps/place/Crafts+%26+Vines/@39.0828214\,-84.5199297\,17z/data=!3m1!4b1!4m6!3m5!1s0x8841b133ff2be0bd:0x73b1d349baa12ee4!8m2!3d39.0828214!4d-84.5173548!16s%2Fg%2F11c5s4cfrn?entry=ttu&amp\;amp\;g_ep=EgoyMDI0MDgyOC4wIKXMDSoASAFQAw%3D%3D">Crafts &amp\; Vines</a><br />\n642 Main Street<br />\nCovington\, KY 41011</p>\n
LOCATION:
UID:e.818.20174
SEQUENCE:3
DTSTAMP:20260420T162041Z
URL:https://business.hispanicchambercincinnati.com/events/details/elevating-competition-the-pursuit-of-excellence-in-women-s-athletics-20174
END:VEVENT

END:VCALENDAR
