BEGIN:VCALENDAR
VERSION:2.0
PRODID:-//ChamberMaster//Event Calendar 2.0//EN
METHOD:PUBLISH
X-PUBLISHED-TTL:P3D
REFRESH-INTERVAL:P3D
CALSCALE:GREGORIAN
BEGIN:VEVENT
DTSTART:20240502T140000Z
DTEND:20240502T160000Z
X-MICROSOFT-CDO-ALLDAYEVENT:FALSE
SUMMARY:Employee Resource Groups in the Region
DESCRIPTION:Join us for ConnectERG\, a special event that will bring together Employee Resource Groups from across the region together for connection\, collaboration\, and sharing of resources.\n\n\n\nHere are the details:     \n\n\n\n\n	Date: May 2\, 2024\n	Time: 10 am - 12 pm\n	Location: Cincinnati Regional Chamber\, 3 E 4th St\, Cincinnati\, OH 45202\n	Cost: Free\n\n\nConnectERG is a regional alliance of Employee Resource Groups (ERG) dedicated to fostering diverse talent in the area. Whether you lead an ERG\, are part of one\, or are interested in starting an ERG at your company\, this event will provide you with valuable insights\, networking opportunities\, and practical guidance.\n\nDuring the morning session\, we will:\n\n\n	Explore the current challenges faced by ERGs.\n	Discuss resources and services that could benefit your organization.\n	Share how the Chamber can support diversity\, equity\, inclusion\, and a sense of belonging within your workplace and the broader community.\n\n\nWe encourage you to mark your calendar for this essential gathering and share this invitation with your colleagues or network members who might also benefit from this event.\n\nThank you for considering this invitation\, and we look forward to seeing you May 2!
X-ALT-DESC;FMTTYPE=text/html:<div>\n<div has-hovered="true">\n<p><a data-auth="NotApplicable" data-linkindex="2" href="http://go.pardot.com/e/958702/ty-event-id-a1m8W000009XQOuQAO/dzctj/824502210/h/kf0wwt-HUt5UPdf7-Q9SSiLWJrG52JLO6uhYAPqSZbQ" rel="noopener noreferrer" target="_blank">Join us for ConnectERG</a>\, a special event that&nbsp\;will&nbsp\;bring together Employee Resource Groups from across the region together for connection\, collaboration\, and sharing of resources.<br />\n<br />\nHere are the details:&#8203\;&#8203\;&#8203\;&#8203\;&#8203\;</p>\n\n<div>\n<div has-hovered="true">\n<ul>\n	<li>Date:&nbsp\;May 2\, 2024</li>\n	<li>Time:&nbsp\;10 am - 12 pm</li>\n	<li>Location:&nbsp\;Cincinnati Regional Chamber\, 3 E 4th St\, Cincinnati\, OH 45202</li>\n	<li>Cost:&nbsp\;Free</li>\n</ul>\n\n<p>ConnectERG is a regional alliance of Employee Resource Groups (ERG) dedicated to fostering diverse talent in the area. Whether you lead an ERG\, are part of one\, or are interested in starting an ERG at your company\, this event will provide you with valuable insights\, networking opportunities\, and practical guidance.</p>\n\n<p>During the morning session\, we will:</p>\n\n<ul>\n	<li>Explore the current challenges faced by ERGs.</li>\n	<li>Discuss resources and services that could benefit your organization.</li>\n	<li>Share how the Chamber can support diversity\, equity\, inclusion\, and a sense of belonging within your workplace and the broader community.</li>\n</ul>\n\n<p>We encourage you to mark your calendar for this essential gathering and share this invitation with your colleagues or network members who might also benefit from this event.</p>\n\n<p>Thank you for considering this invitation\, and we look forward to seeing you May 2!</p>\n</div>\n</div>\n</div>\n</div>\n
LOCATION:3 East 4th Street\, Cincinnati\, OH 45202
UID:e.818.19930
SEQUENCE:3
DTSTAMP:20260421T181859Z
URL:https://business.hispanicchambercincinnati.com/events/details/employee-resource-groups-in-the-region-19930
END:VEVENT

END:VCALENDAR
