BEGIN:VCALENDAR
VERSION:2.0
PRODID:-//ChamberMaster//Event Calendar 2.0//EN
METHOD:PUBLISH
X-PUBLISHED-TTL:P3D
REFRESH-INTERVAL:P3D
CALSCALE:GREGORIAN
BEGIN:VEVENT
DTSTART:20230725T180000Z
DTEND:20230725T200000Z
X-MICROSOFT-CDO-ALLDAYEVENT:FALSE
SUMMARY:Employee Retention Credit Webinar
DESCRIPTION:This webinar will cover the following: \n\n	Provide Overview of the Employee Retention Credit (ERC)\n	Discuss Key Areas of ERC Compliance\n	List Characteristics of Potential ERC Fraud\n	Describe Ways to Report Potential ERC Fraud & Steer Your Clients Away From It\n	Plus\, a live Q & A\n\nOffered with closed captioning.  Closed Captioning displays the words that descrbe the audio portion of the program for viewers who are deaf or hard of hearing.  Captions are available in English only.\n\n\n\nAll participants who qualify will receive a Certificate of Completion.\n\n\n\nTax Professionals - Earn up to 2 CE Credits. Category: Federal Tax\n\n\n\nIRS Stakeholder Liaison is an IRS Return Preparer Office Approved CE Provider for Enrolled Agents and Other Tax Return Preparers with valid PTINs and is not NASBA or MCLE accredited. CPAs\, attorneys and others licensed by state boards/organizations should check with their respective boards/organizations to determine if credit applies toward their continuing education requirements.
X-ALT-DESC;FMTTYPE=text/html:This webinar will cover the following:&nbsp\;\n<ul>\n	<li>Provide Overview of the Employee Retention Credit (ERC)</li>\n	<li>Discuss Key Areas of ERC Compliance</li>\n	<li>List Characteristics of Potential ERC Fraud</li>\n	<li>Describe Ways to Report Potential ERC Fraud &amp\; Steer Your Clients Away From It</li>\n	<li>Plus\, a live Q &amp\; A</li>\n</ul>\nOffered with closed captioning.&nbsp\; Closed Captioning displays the words that descrbe the audio portion of the program for viewers who are deaf or hard of hearing.&nbsp\; Captions are available in English only.<br />\n<br />\nAll participants who qualify will receive a Certificate of Completion.<br />\n<br />\nTax Professionals - Earn up to 2 CE Credits. Category: Federal Tax<br />\n<br />\nIRS Stakeholder Liaison is an IRS Return Preparer Office Approved CE Provider for Enrolled Agents and Other Tax Return Preparers with valid PTINs and is not NASBA or MCLE accredited. CPAs\, attorneys and others licensed by state boards/organizations should check with their respective boards/organizations to determine if credit applies toward their continuing education requirements.
LOCATION:Online
UID:e.818.19115
SEQUENCE:3
DTSTAMP:20260421T053316Z
URL:https://business.hispanicchambercincinnati.com/events/details/employee-retention-credit-webinar-19115
END:VEVENT

END:VCALENDAR
