BEGIN:VCALENDAR
VERSION:2.0
PRODID:-//ChamberMaster//Event Calendar 2.0//EN
METHOD:PUBLISH
X-PUBLISHED-TTL:P3D
REFRESH-INTERVAL:P3D
CALSCALE:GREGORIAN
BEGIN:VEVENT
DTSTART:20250327T170000Z
DTEND:20250327T200000Z
X-MICROSOFT-CDO-ALLDAYEVENT:FALSE
SUMMARY:Artists Reaching Classrooms | Exhibition Opening
DESCRIPTION:Artists Reaching Classrooms (ARC): I/Us February 16 March 28\, 2025 | The Annex Gallery Each year the ARC program immerses high school art students in Cincinnati's visual arts community and exposes them to careers in the arts through studio visits and other field trips. Celebrate this special program and the students' future careers with their own curated gallery show\, I/Us\, on view at The Annex Gallery.
X-ALT-DESC;FMTTYPE=text/html:Artists Reaching Classrooms (ARC): I/Us February 16&ndash\;March 28\, 2025 | The Annex Gallery Each year the ARC program immerses high school art students in Cincinnati&rsquo\;s visual arts community and exposes them to careers in the arts through studio visits and other field trips. Celebrate this special program and the students&rsquo\; future careers with their own curated gallery show\, I/Us\, on view at The Annex Gallery.
LOCATION:The Annex Gallery 1310 Pendleton Street\, Cincinnati\, Ohio
UID:e.818.20801
SEQUENCE:3
DTSTAMP:20260423T124829Z
URL:https://business.hispanicchambercincinnati.com/events/details/exhibition-opening-artists-reaching-classrooms-03-27-2025-20801
END:VEVENT

END:VCALENDAR
