BEGIN:VCALENDAR
VERSION:2.0
PRODID:-//ChamberMaster//Event Calendar 2.0//EN
METHOD:PUBLISH
X-PUBLISHED-TTL:P3D
REFRESH-INTERVAL:P3D
CALSCALE:GREGORIAN
BEGIN:VEVENT
DTSTART:20240925T210000Z
DTEND:20240926T000000Z
X-MICROSOFT-CDO-ALLDAYEVENT:FALSE
SUMMARY:Exodus Alternate Documents - a Cuban art exhibit Fundraiser for IRLC
DESCRIPTION:Exodus Alternate Documents - a Cuban art exhibit\n\nSince 1994\, Willy Castellanos\, a Cuban born art historian\, curator\, artist and photographer\, has been documenting the 35\,000 Cubans who left the island on hand-built rafts in what became one of the most dramatic exoduses in contemporary history. The artist also includes the participation of the Cuban immigrant community in Miami\, as well as of the protagonists of the 1994 "Exodus of the Rafters" to capture first hand recollections of this historic event.\n\nHe is bringing his works to the Cincinnati community with a thought provoking exhibit featuring an opening night benefit for the Immigrant and Refugee Law Center.  \n\nJoin us on Wednesday\, September 25\, 2024 at 6:00pm for a night of cultural immersion and supporting the Immigrant and Refugee Law Center with an opening night fundraiser at the Pendleton Art Center Annex Gallery.
X-ALT-DESC;FMTTYPE=text/html:<p>Exodus Alternate Documents - a Cuban art exhibit</p>\n\n<p>Since 1994\, Willy Castellanos\, a Cuban born art historian\, curator\, artist and photographer\, has been documenting the 35\,000 Cubans who left the island on hand-built rafts in what became one of the most dramatic exoduses in contemporary history. The artist also includes the participation of the Cuban immigrant community in Miami\, as well as of the protagonists of the 1994 &ldquo\;Exodus of the Rafters&rdquo\; to capture first hand recollections of this historic event.</p>\n\n<p>He is bringing his works to the Cincinnati community with a thought provoking exhibit featuring an opening night benefit for the Immigrant and Refugee Law Center.&nbsp\;&nbsp\;</p>\n\n<p>Join us on&nbsp\;Wednesday\, September 25\, 2024&nbsp\;at 6:00pm&nbsp\;for a night of cultural immersion and supporting the Immigrant and Refugee Law Center with an opening night fundraiser at the Pendleton Art Center Annex Gallery.</p>\n
LOCATION:Pendleton Art Center 1310 Pendleton Street Cincinnati\, OH 45202
UID:e.818.20178
SEQUENCE:3
DTSTAMP:20260420T161856Z
URL:https://business.hispanicchambercincinnati.com/events/details/exodus-alternate-documents-a-cuban-art-exhibit-fundraiser-for-irlc-20178
END:VEVENT

END:VCALENDAR
