BEGIN:VCALENDAR
VERSION:2.0
PRODID:-//ChamberMaster//Event Calendar 2.0//EN
METHOD:PUBLISH
X-PUBLISHED-TTL:P3D
REFRESH-INTERVAL:P3D
CALSCALE:GREGORIAN
BEGIN:VEVENT
DTSTART:20240924T120000Z
DTEND:20240925T000000Z
X-MICROSOFT-CDO-ALLDAYEVENT:FALSE
SUMMARY:Exporting Home Virtual Connection Program
DESCRIPTION:Download flyer here. \n\n\n\nAbout Exporting Home\n\nDeveloped and offered by the U.S. Commercial Service's Global Diversity Export Initiative\, this innovative program leverages the leadership of the U.S. Hispanic Diaspora\, utilizing cultural\, linguistic\, and business ties to do business in Latin America on September 23   26\, 2024. By arranging virtual Business   to   Business meetings in select Latin American markets\, this program leverages our network and the power of the Diaspora network to help all U.S. businesses - including U.S. Hispanic- led enterprises - succeed in the region. This program is open to all U.S. businesses seeking export opportunities in the region in the following industries:\n\n\n\n  Construction\n\n  Professional\, Scientific\, and Technical Services\n\n  Hospitality\n\n  Transportation\n\n  Administrative and Support of Waste Management and Remediation\n\n  Consumer Goods\n\n  Clean Tech\n\n  Energy\n\n  ICT\n\n\n\nDeadline: August 30\, 2024\n\n\n\nCost: $350\n\nQuestions? Contact a local trade specialist  \n\nEastern/Midwest U.S.: Antonio.Ceballos@trade.gov\n\nSouthern U.S.: Mindi.Hertzog@trade.gov and\n\nIsabel.Davila@trade.gov\n\nSouthwestern U.S.: Frantz.Eyssallenne@trade.gov\n\nWestern/orthwestern U.S.: George.Tastard@trade.gov
X-ALT-DESC;FMTTYPE=text/html:<em><a href="https://chambermaster.blob.core.windows.net/userfiles/UserFiles/chambers/818/File/2024/ExportingHomeVCPLATAMFlyer.pdf">Download flyer here.</a> </em><br />\n<br />\n<strong>About Exporting Home</strong><br />\nDeveloped and offered by the U.S. Commercial Service&rsquo\;s Global Diversity Export Initiative\, this innovative program leverages the leadership of the U.S. Hispanic Diaspora\, utilizing cultural\, linguistic\, and business ties to do business in Latin America on September 23 &ndash\; 26\, 2024. By arranging virtual Business &ndash\; to &ndash\; Business meetings in select Latin American markets\, this program leverages our network and the power of the Diaspora network to help all U.S. businesses - including U.S. Hispanic- led enterprises - succeed in the region. This program is open to all U.S. businesses seeking export opportunities in the region in the following industries:<br />\n<br />\n&bull\; Construction<br />\n&bull\; Professional\, Scientific\, and Technical Services<br />\n&bull\; Hospitality<br />\n&bull\; Transportation<br />\n&bull\; Administrative and Support of Waste Management and Remediation<br />\n&bull\; Consumer Goods<br />\n&bull\; Clean Tech<br />\n&bull\; Energy<br />\n&bull\; ICT<br />\n<br />\nDeadline: August 30\, 2024<br />\n<br />\n<strong>Cost: $350<br />\nQuestions?</strong> Contact a local trade specialist &ndash\;<br />\nEastern/Midwest U.S.: Antonio.Ceballos@trade.gov<br />\nSouthern U.S.: Mindi.Hertzog@trade.gov and<br />\nIsabel.Davila@trade.gov<br />\nSouthwestern U.S.: Frantz.Eyssallenne@trade.gov<br />\nWestern/orthwestern U.S.: George.Tastard@trade.gov
LOCATION:ONLINE
UID:e.818.20062
SEQUENCE:3
DTSTAMP:20260420T161332Z
URL:https://business.hispanicchambercincinnati.com/events/details/exporting-home-virtual-connection-program-09-24-2024-20062
END:VEVENT

END:VCALENDAR
