BEGIN:VCALENDAR
VERSION:2.0
PRODID:-//ChamberMaster//Event Calendar 2.0//EN
METHOD:PUBLISH
X-PUBLISHED-TTL:P3D
REFRESH-INTERVAL:P3D
CALSCALE:GREGORIAN
BEGIN:VEVENT
DTSTART:20230625T140000Z
DTEND:20230625T200000Z
X-MICROSOFT-CDO-ALLDAYEVENT:FALSE
SUMMARY:Family Funday | Modern Women/Modern Vision
DESCRIPTION:Explore the Taft's newest exhibition\, Modern Women/Modern Vision\, with the whole family! Discover the dynamic and bold contributions of women photographers with a day at the museum full of fun to inspire your young creators!
X-ALT-DESC;FMTTYPE=text/html:Explore the Taft&rsquo\;s newest exhibition\, Modern Women/Modern Vision\, with the whole family! Discover the dynamic and bold contributions of women photographers with a day at the museum full of fun to inspire your young creators!
LOCATION:Taft Museum of Art 316 Pike Street Cincinnati\, OH 45202
UID:e.818.18994
SEQUENCE:3
DTSTAMP:20260421T074311Z
URL:https://business.hispanicchambercincinnati.com/events/details/family-funday-modern-women-modern-vision-18994
END:VEVENT

END:VCALENDAR
