BEGIN:VCALENDAR
VERSION:2.0
PRODID:-//ChamberMaster//Event Calendar 2.0//EN
METHOD:PUBLISH
X-PUBLISHED-TTL:P3D
REFRESH-INTERVAL:P3D
CALSCALE:GREGORIAN
BEGIN:VEVENT
DTSTART:20250322T183000Z
DTEND:20250322T210000Z
X-MICROSOFT-CDO-ALLDAYEVENT:FALSE
SUMMARY:FC Cincinnati vs Atlanta United
DESCRIPTION:FC Cincinnati will face Atlanta United on March 22nd at TQL Stadium. For tickets and information\, visit \n\nfccincinnati.com/tickets/.
X-ALT-DESC;FMTTYPE=text/html:FC Cincinnati will face Atlanta United on March 22nd at TQL Stadium.&nbsp\;For tickets and information\, visit&nbsp\;<br />\nfccincinnati.com/tickets/.
LOCATION:TQL Stadium 1501 Central Pkwy\, Cincinnati\, OH 45214
UID:e.818.21253
SEQUENCE:3
DTSTAMP:20260423T124408Z
URL:https://business.hispanicchambercincinnati.com/events/details/fc-cincinnati-vs-atlanta-united-21253
END:VEVENT

END:VCALENDAR
