BEGIN:VCALENDAR
VERSION:2.0
PRODID:-//ChamberMaster//Event Calendar 2.0//EN
METHOD:PUBLISH
X-PUBLISHED-TTL:P3D
REFRESH-INTERVAL:P3D
CALSCALE:GREGORIAN
BEGIN:VEVENT
DTSTART:20250223T003000Z
DTEND:20250223T030000Z
X-MICROSOFT-CDO-ALLDAYEVENT:FALSE
SUMMARY:FC Cincinnati vs. New York Red Bulls
DESCRIPTION:FC Cincinnati will face the New York Red Bulls at the 2025 Home Opener match on February 22\, 2025 at 7:30 PM. For tickets and information\, visit fccincinnati.com/tickets/.
X-ALT-DESC;FMTTYPE=text/html:FC Cincinnati will face the New York Red Bulls at the 2025 Home Opener match on February 22\, 2025 at 7:30 PM. For tickets and information\, visit&nbsp\;fccincinnati.com/tickets/.
LOCATION:TQL Stadium
UID:e.818.21069
SEQUENCE:3
DTSTAMP:20260426T011424Z
URL:https://business.hispanicchambercincinnati.com/events/details/fc-cincinnati-vs-new-york-red-bulls-21069
END:VEVENT

END:VCALENDAR
