BEGIN:VCALENDAR
VERSION:2.0
PRODID:-//ChamberMaster//Event Calendar 2.0//EN
METHOD:PUBLISH
X-PUBLISHED-TTL:P3D
REFRESH-INTERVAL:P3D
CALSCALE:GREGORIAN
BEGIN:VEVENT
DTSTART:20250302T003000Z
DTEND:20250302T030000Z
X-MICROSOFT-CDO-ALLDAYEVENT:FALSE
SUMMARY:FC Cincinnati vs. Philadelphia Union
DESCRIPTION:FC Cincinnati will face the Philadelphia Union at Subaru Park on Saturday\, March 1st\, 2025. Fans can watch on Apple TV MLS Season Pass or locate an FC Cincinnati Pub Partner near them. Pub Partners commit to show every single FC Cincinnati match. To locate a Pub Partner near you\, visit fccincinnati.com/matchday/pub-partners/.
X-ALT-DESC;FMTTYPE=text/html:FC Cincinnati will face the Philadelphia Union at Subaru Park on Saturday\, March 1st\, 2025. Fans can watch on Apple TV MLS Season Pass or locate an FC Cincinnati Pub Partner near them. Pub Partners commit to show every single FC Cincinnati match. To locate a Pub Partner near you\, visit&nbsp\;fccincinnati.com/matchday/pub-partners/.
LOCATION:Subaru Park
UID:e.818.21070
SEQUENCE:3
DTSTAMP:20260423T124409Z
URL:https://business.hispanicchambercincinnati.com/events/details/fc-cincinnati-vs-philadelphia-union-21070
END:VEVENT

END:VCALENDAR
