BEGIN:VCALENDAR
VERSION:2.0
PRODID:-//ChamberMaster//Event Calendar 2.0//EN
METHOD:PUBLISH
X-PUBLISHED-TTL:P3D
REFRESH-INTERVAL:P3D
CALSCALE:GREGORIAN
BEGIN:VEVENT
DTSTART:20240915T140000Z
DTEND:20240915T210000Z
X-MICROSOFT-CDO-ALLDAYEVENT:FALSE
SUMMARY:Fifth Third Community Day
DESCRIPTION:Join us for our next Fifth Third Community Day! Guests will receive free admission and experience special activities. Reserve your tickets online or in-person. Fifth Third Community Days are made possible through the generous support of the Fifth Third Foundation.
X-ALT-DESC;FMTTYPE=text/html:<p>Join us for our next&nbsp\;<a href="https://freedomcenter.org/53-community-days/">Fifth Third Community Day</a>! Guests will receive free admission and experience special activities. Reserve your tickets online or in-person. Fifth Third Community Days are made possible through the generous support of the Fifth Third Foundation.</p>\n\n<div data-index="3" id="panel-4739-1-1-1">\n<div>\n<div>\n<p>&nbsp\;</p>\n</div>\n</div>\n</div>\n
LOCATION:50 East Freedom Way\, Cincinnati\, OH 45223
UID:e.818.20096
SEQUENCE:3
DTSTAMP:20260420T142846Z
URL:https://business.hispanicchambercincinnati.com/events/details/fifth-third-community-day-20096
END:VEVENT

END:VCALENDAR
