BEGIN:VCALENDAR
VERSION:2.0
PRODID:-//ChamberMaster//Event Calendar 2.0//EN
METHOD:PUBLISH
X-PUBLISHED-TTL:P3D
REFRESH-INTERVAL:P3D
CALSCALE:GREGORIAN
BEGIN:VEVENT
DTSTART:20250216T150000Z
DTEND:20250216T220000Z
X-MICROSOFT-CDO-ALLDAYEVENT:FALSE
SUMMARY:Fifth Third Community Day
DESCRIPTION:Join us for our next Fifth Third Community Day! Guests will receive free admission and experience special activities. Reserve your tickets online or in-person. Fifth Third Community Days are made possible through the generous support of the Fifth Third Foundation.\n\n\n\n\n\n\n\n\n\n\n\n\n\n\n\nActivity Schedule\n\nIlluminating Freedom: Candle Making Experience with Ti Marie Candle Company\n\n11:00 a.m.-4:00 p.m. \n\nJoin us this Black History Month for a hands-on candle-making experience with local business\, Ti Marie Candle Company. Symbolizing the light of hope and resilience central to the story of the Underground Railroad\, participants will craft their own 4 oz. candles while reflecting on the role of light as a guiding force for freedom seekers and as a beacon for social justice. This immersive activity invites guests to honor the legacy of those who fought for equality and consider how they can carry the flame of justice into the present day.\n\n$5 | Free for Members\n\nLimited availability\, please register in advance.\n\nSecure Your Spot \n\n \n\nThe Children's Theatre on Tour: Harriet Tubman Straight Outta' The Underground\n\n2:00 p.m. | Harriet Tubman Theater\n\nThe past becomes present to change the future with this one-woman interactive storytelling experience. Uncover the truth about America's 200-year struggle with slavery when you play a part in this historic retelling. On the journey\, you'll follow Harriet Tubman\, the most recognized conductor of the Underground Railroad. Nicknamed "Moses\," Harriet lived up to her name by gaining her own freedom and then traveling back and forth over a dozen times to lead 70 people to freedom.\n\nFree as part of the Fifth Third Community Day.\n\nRegister
X-ALT-DESC;FMTTYPE=text/html:<div id="pg-5356-2">\n<div>\n<div id="pgc-5356-2-0">\n<div data-index="7" id="panel-5356-2-0-0">\n<div>\n<div>\n<div>\n<p>Join us for our next&nbsp\;<a href="https://freedomcenter.org/53-community-days/">Fifth Third Community Day</a>! Guests will receive free admission and experience special activities. Reserve your tickets online or in-person. Fifth Third Community Days are made possible through the generous support of the Fifth Third Foundation.</p>\n</div>\n</div>\n</div>\n</div>\n</div>\n</div>\n</div>\n\n<div id="pg-5356-3">\n<div>\n<div id="pgc-5356-3-0">\n<div data-index="8" id="panel-5356-3-0-0">\n<div>\n<div>\n<div>\n<p><u><strong>Activity Schedule</strong></u></p>\n\n<p>Illuminating Freedom: Candle Making Experience with Ti Marie Candle Company<br />\n11:00 a.m.-4:00 p.m.&nbsp\;</p>\n\n<p>Join us this Black History Month for a hands-on candle-making experience with local business\, Ti Marie Candle Company. Symbolizing the light of hope and resilience central to the story of the Underground Railroad\, participants will craft their own 4 oz. candles while reflecting on the role of light as a guiding force for freedom seekers and as a beacon for social justice. This immersive activity invites guests to honor the legacy of those who fought for equality and consider how they can carry the flame of justice into the present day.</p>\n\n<p>$5 | Free for Members<br />\nLimited availability\, please register in advance.</p>\n\n<p><a href="https://tickets.cincymuseum.org/freedomcenter/events/b1421ebf-0efe-ee4a-4e24-9c06e69514ab?__hstc=12409899.85ef3125b5143efd8fecbd9f08cc205f.1737990221593.1737990221593.1737990221593.1&amp\;__hssc=12409899.2.1737990221593&amp\;__hsfp=3022385577" rel="noopener" target="_blank">Secure Your Spot&rarr\;</a></p>\n\n<p>&nbsp\;</p>\n\n<p>The Children&#39\;s Theatre on Tour: Harriet Tubman Straight Outta&rsquo\; The Underground<br />\n2:00 p.m. | Harriet Tubman Theater</p>\n\n<p>The past becomes present to change the future with this one-woman interactive storytelling experience. Uncover the truth about America&rsquo\;s 200-year struggle with slavery when you play a part in this historic retelling. On the journey\, you&rsquo\;ll follow Harriet Tubman\, the most recognized conductor of the Underground Railroad. Nicknamed &ldquo\;Moses\,&rdquo\; Harriet lived up to her name by gaining her own freedom and then traveling back and forth over a dozen times to lead 70 people to freedom.</p>\n\n<p>Free as part of the Fifth Third Community Day.</p>\n\n<p><a href="https://tickets.cincymuseum.org/freedomcenter/events/50f4878f-c9d4-ed68-8221-51d40197fa93?__hstc=12409899.85ef3125b5143efd8fecbd9f08cc205f.1737990221593.1737990221593.1737990221593.1&amp\;__hssc=12409899.2.1737990221593&amp\;__hsfp=3022385577" rel="noopener" target="_blank">Register&rarr\;</a></p>\n\n<p>&nbsp\;</p>\n</div>\n</div>\n</div>\n</div>\n</div>\n</div>\n</div>\n
LOCATION:50 East Freedom Way\, Cincinnati\, OH 45202
UID:e.818.21074
SEQUENCE:3
DTSTAMP:20260423T092228Z
URL:https://business.hispanicchambercincinnati.com/events/details/fifth-third-community-day-21074
END:VEVENT

END:VCALENDAR
