BEGIN:VCALENDAR
VERSION:2.0
PRODID:-//ChamberMaster//Event Calendar 2.0//EN
METHOD:PUBLISH
X-PUBLISHED-TTL:P3D
REFRESH-INTERVAL:P3D
CALSCALE:GREGORIAN
BEGIN:VEVENT
DTSTART:20230707T180000Z
DTEND:20230707T192000Z
X-MICROSOFT-CDO-ALLDAYEVENT:FALSE
SUMMARY:Film Screening: America’s Truth: Cincinnati
DESCRIPTION:America's Truth: Cincinnati explores how structural racism produced inequitable outcomes in four Black neighborhoods in Cincinnati   Avondale\, West End\, Lincoln Heights and Kennedy Heights. The stories of these communities recount a long history of unjust policies intentionally designed to drive inequitable outcomes by race and place. Pairing the science of public health with riveting storytelling\, the documentary covers nearly 200 years of housing\, education and public safety policy that continue to produce adversity for Black Cincinnatians today. Download the discussion guide (PDF) to start a conversation on Truth in your community\; and check out the Truth & Equity: Cincinnati case study to learn more about the Cincinnati Truth & Equity process.\n\nAmerica's Truth: Cincinnati will be screened the first Friday of every month in 2023. The film was produced by the Center for Community Resilience\, part of the Milken Institute School for Public Health at George Washington University.
X-ALT-DESC;FMTTYPE=text/html:<p><a data-auth="NotApplicable" data-hs-link-id="0" data-linkindex="0" data-safelink="true" href="https://us-east-2.protection.sophos.com/?d=hubspotlinks.com&amp\;u=aHR0cHM6Ly9kMkJCSDkwNC5uYTEuaHVic3BvdGxpbmtzLmNvbS9DdGMvTDArMTEzL2QyQkJIOTA0L01XSkhtNmx6UFYwVzhGRlE0VzVKVEpQSFcxMWZqNWM0VnJDVjhONGpSV2N3M3E5MDVWMS1XSlY3Q2daSzJXNC1rbFpZMTRRREhSVzJZZjY5eDR4Sm1rVE44bTUtUzFXLS1qV1Y0Qnd0UTdSY3o2eU4yQ3ZMcFg3X3NIaFc0ODZoNjc0amsydzlXMTdMSGc4MjVxcW1qVzh0cHh2bDMwLVdkTVczU0c1MGw4Z0pscGNWS19YNV80RHh6QnRXNUhZaEJuM0tHVzhITjhra0ZGc3lqcHJ6VzVySDNZNTRxWVNEcVcxUVd0dnc2dE1SeG5XOHlfREYxMTJwS3FfVzNGYmhadzk4c1RrUlc1ZG1jc2M0blYwWW5XN0M1bFJZMVB4d3g5VzZyU1lIeDJRc1c4bFc0Y04xeWY4NUdtVEdNLU5kUzgxSGh2clc3TXAtcnY1NFZ2MVFXN1NKd2Q0NWNaUTE3VzhtWnJtSjYtbjJsYjNoVy0x&amp\;i=NWFmZGU5NzVjNDdlNmYxNmVkZDlhY2Q3&amp\;t=ZmpQaHYyWlkrdmZQcE03VDRBbDRmd2t6dkZwaThaMExXejdMeE5tZ2syaz0=&amp\;h=b03fc8b13b2448098d656f31098c97fa&amp\;s=AVNPUEhUT0NFTkNSWVBUSVaiSYz6CFTaahSAuDQOQ6HxFFNEM1yh1PcZQrd7l5kit18aZZyW4g7uK3u1KJd1ngnwJE25Rg7lgGKvaRxbyHHa2S8o3WL-_xcvtLh1GFhJx9KDn6oof_CSB589Wh5efLI" rel="noopener noreferrer" target="_blank">America&rsquo\;s&nbsp\;Truth: Cincinnati</a>&nbsp\;explores how structural racism produced inequitable outcomes in four Black neighborhoods in Cincinnati &ndash\; Avondale\, West End\, Lincoln Heights and Kennedy Heights. The stories of these communities recount a long history of unjust policies intentionally designed to drive inequitable outcomes by race and place. Pairing the science of public health with riveting storytelling\, the documentary covers nearly 200 years of housing\, education and public safety policy that continue to produce adversity for Black Cincinnatians today.&nbsp\;<a data-entity-substitution="media" data-entity-type="media" data-entity-uuid="f93a08eb-51b5-45c1-bcd2-27eac9af15fd" href="https://ccr.publichealth.gwu.edu/sites/g/files/zaxdzs4361/files/2022-06/discussion-guide-americas-truth-cincinnati.pdf" title="America's Truth: Cincinnati - Documentary Discussion Guide">Download the discussion guide (PDF)</a>&nbsp\;to start a conversation on Truth in your community\; and&nbsp\;<a href="https://ccr.publichealth.gwu.edu/fostering-equity/truth-equity-cincinnati">check out the&nbsp\;Truth &amp\; Equity: Cincinnati&nbsp\;case study</a>&nbsp\;to learn more about the Cincinnati Truth &amp\; Equity process.</p>\n\n<p>America&#39\;s&nbsp\;Truth: Cincinnati&nbsp\;will be screened the first Friday of every month in 2023. The film was produced by the Center for Community Resilience\, part of the Milken Institute School for Public Health at George Washington University.</p>\n
LOCATION:Harriet Tubman Theater
UID:e.818.19024
SEQUENCE:3
DTSTAMP:20260421T053332Z
URL:https://business.hispanicchambercincinnati.com/events/details/film-screening-america-s-truth-cincinnati-19024
END:VEVENT

END:VCALENDAR
