BEGIN:VCALENDAR
VERSION:2.0
PRODID:-//ChamberMaster//Event Calendar 2.0//EN
METHOD:PUBLISH
X-PUBLISHED-TTL:P3D
REFRESH-INTERVAL:P3D
CALSCALE:GREGORIAN
BEGIN:VEVENT
DTSTART:20240921T180000Z
DTEND:20240921T193000Z
X-MICROSOFT-CDO-ALLDAYEVENT:FALSE
SUMMARY:Findlay Market Tasting Tour Hispanic Heritage Month
DESCRIPTION:Happy Hispanic Heritage Month! What better way to celebrate than supporting small latinx-owned and -operated businesses at Findlay Market? We will take a tour of the Market\, diving into the rich history of Ohio's oldest public market\, stopping to sample treats from participating businesses along the way. Tickets are $35 and include all treats consumed during the tour.\n\nParticipating Merchants\n\n\n	The Arepa Place - Mini Cheese Arepa\n	Mama Lo Hizo\n	Pollos El Aut ntico\n	Queen Tequenos\n	Sabor Alaniz
X-ALT-DESC;FMTTYPE=text/html:<div>Happy Hispanic Heritage Month! What better way to celebrate than supporting small latinx-owned and -operated businesses at Findlay Market? We will take a tour of the Market\, diving into the rich history of Ohio&rsquo\;s oldest public market\, stopping to sample treats from participating businesses along the way. Tickets are $35 and include all treats consumed during the tour.</div>\n\n<div>Participating Merchants</div>\n\n<ul>\n	<li>The Arepa Place - Mini Cheese Arepa</li>\n	<li>Mama Lo Hizo</li>\n	<li>Pollos El Aut&eacute\;ntico</li>\n	<li>Queen Tequenos</li>\n	<li>Sabor Alaniz&nbsp\;</li>\n</ul>\n
LOCATION:Findlay Market 1801 Race St\, Cincinnati\, OH\, 45202
UID:e.818.20177
SEQUENCE:3
DTSTAMP:20260420T161944Z
URL:https://business.hispanicchambercincinnati.com/events/details/findlay-market-tasting-tour-hispanic-heritage-month-20177
END:VEVENT

END:VCALENDAR
