BEGIN:VCALENDAR
VERSION:2.0
PRODID:-//ChamberMaster//Event Calendar 2.0//EN
METHOD:PUBLISH
X-PUBLISHED-TTL:P3D
REFRESH-INTERVAL:P3D
CALSCALE:GREGORIAN
BEGIN:VEVENT
DTSTART:20250227T213000Z
DTEND:20250227T233000Z
X-MICROSOFT-CDO-ALLDAYEVENT:FALSE
SUMMARY:Fort Thomas Business Council - Business Social
DESCRIPTION:Join us for the Fort Thomas Business Council Networking Social on Thursday\, February 27\, 2025 from 4:30-6:30 PM at TBD.\n\nYou won't want to miss checking out what K. Anderson Jewelers has to offer while enjoying complimentary appetizers prepared by the Tickle Pickle and a cash bar while networking with other business leaders.  \n\nEvent Contact\n\nBeth Farrer\n\n(859) 578-6399
X-ALT-DESC;FMTTYPE=text/html:<p>Join us for the&nbsp\;Fort Thomas Business Council&nbsp\;Networking&nbsp\;Social&nbsp\;on&nbsp\;Thursday\, February 27\, 2025&nbsp\;from&nbsp\;4:30-6:30 PM&nbsp\;at TBD.</p>\n\n<p>You won&#39\;t want to miss checking out what&nbsp\;<a fr-original-style="" href="https://www.kandersonjewelers.com/">K. Anderson Jewelers</a>&nbsp\;has to offer while enjoying complimentary appetizers prepared by the&nbsp\;<a fr-original-style="" href="https://www.ordertickle.com/">Tickle Pickle</a>&nbsp\;and a cash bar while networking with other business leaders. &nbsp\;</p>\n\n<p>Event Contact<br />\nBeth Farrer<br />\n<a href="tel:8595786399" title="Primary Phone">(859) 578-6399</a></p>\n
LOCATION:K. Anderson Jewelers 907 N. Ft. Thomas Ave. Ft. Thomas\, KY 41075
UID:e.818.21238
SEQUENCE:3
DTSTAMP:20260423T092913Z
URL:https://business.hispanicchambercincinnati.com/events/details/fort-thomas-business-council-business-social-21238
END:VEVENT

END:VCALENDAR
