BEGIN:VCALENDAR
VERSION:2.0
PRODID:-//ChamberMaster//Event Calendar 2.0//EN
METHOD:PUBLISH
X-PUBLISHED-TTL:P3D
REFRESH-INTERVAL:P3D
CALSCALE:GREGORIAN
BEGIN:VEVENT
DTSTART:20240321T220000Z
DTEND:20240322T000000Z
X-MICROSOFT-CDO-ALLDAYEVENT:FALSE
SUMMARY:FotoFocus 2024 Spring Lecture: Roger Ross Williams
DESCRIPTION:In partnership with FotoFocus\, the National Underground Railroad Freedom Center is pleased to welcome Academy\, Emmy and Peabody Award-winning filmmaker Roger Ross Williams for the latest speaker in its Lecture and Visiting Artist Series.\n\n\n\nWilliams explores the personal and political with intention\, offering an intimate examination of some of the most paramount social issues of our time. The decorated documentarian became the first African American director to win an Academy Award with his short film Music by Prudence in 2009. In the years since\, Williams has ascended\, collecting more accolades and co-founding the production company One Story Up. In 2023\, he premiered Emmy Award-winning The 1619 Project for Hulu\, as well as his scripted feature Cassandro\, which stars Gael Garcia Bernal and premiered at the Sundance Film Festival.\nThe event is free and open to the public.\n \n\n\n\n\nDate and Time\n\nThursday\, March 21\, 2024 | 6:00 pm - 8:00 pm\n\n\n\n\n\n\n\nLocation\n\nHarriet Tubman Theater\n\n\n\n\n\n\n\nEvent Type\n\nLecture\n\n\n\n\n\n\n\nCost\n\nFree
X-ALT-DESC;FMTTYPE=text/html:In partnership with FotoFocus\, the National Underground Railroad Freedom Center is pleased to welcome Academy\, Emmy and Peabody Award-winning filmmaker Roger Ross Williams for the latest speaker in its Lecture and Visiting Artist Series.<br />\n<br />\nWilliams explores the personal and political with intention\, offering an intimate examination of some of the most paramount social issues of our time. The decorated documentarian became the first African American director to win an Academy Award with his short film&nbsp\;Music by Prudence&nbsp\;in 2009. In the years since\, Williams has ascended\, collecting more accolades and co-founding the production company One Story Up. In 2023\, he premiered Emmy Award-winning&nbsp\;The 1619 Project&nbsp\;for Hulu\, as well as his scripted feature&nbsp\;Cassandro\, which stars Gael Garcia Bernal and premiered at the Sundance Film Festival.\n<h4>The event is free and open to the public.</h4>\n&nbsp\;\n\n<div data-index="3" id="panel-4786-1-1-1">\n<div>\n<div>\n<p>Date and Time<br />\nThursday\, March 21\, 2024 | 6:00 pm - 8:00 pm</p>\n</div>\n</div>\n</div>\n\n<div data-index="4" id="panel-4786-1-1-2">\n<div>\n<div>\n<p>Location<br />\nHarriet Tubman Theater</p>\n</div>\n</div>\n</div>\n\n<div data-index="5" id="panel-4786-1-1-3">\n<div>\n<div>\n<p>Event Type<br />\nLecture</p>\n</div>\n</div>\n</div>\n\n<div data-index="6" id="panel-4786-1-1-4">\n<div>\n<div>\n<p>Cost<br />\nFree</p>\n</div>\n</div>\n</div>\n
LOCATION:Harriet Tubman Theater
UID:e.818.19846
SEQUENCE:3
DTSTAMP:20260421T125212Z
URL:https://business.hispanicchambercincinnati.com/events/details/fotofocus-2024-spring-lecture-roger-ross-williams-19846
END:VEVENT

END:VCALENDAR
