BEGIN:VCALENDAR
VERSION:2.0
PRODID:-//ChamberMaster//Event Calendar 2.0//EN
METHOD:PUBLISH
X-PUBLISHED-TTL:P3D
REFRESH-INTERVAL:P3D
CALSCALE:GREGORIAN
BEGIN:VEVENT
DTSTART:20250215T150000Z
DTEND:20250215T190000Z
X-MICROSOFT-CDO-ALLDAYEVENT:FALSE
SUMMARY:Free Covid and Flu Vaccines at Esperanza
DESCRIPTION:Este S bado\, Febrero 15 desde las 10am hasta 2pm\, vamos a estar ofreciendo vacunas gratis contra el COVID y el FLU para personas que no tienen seguro m dico. \n\n\n\nRegistrate al 859.261.0862\n\n\n\nDonde: 234 W. Pike St Covington\, KY 41011\n\n\n\nSe brindar  comida y se rifar n 8 tarjetas de KROGER entre todos los participantes al final del d a.\n\n\n\nThis is in partnership with the Northern Kentucky Health Department and the Foundation for a Healthy Kentucky.
X-ALT-DESC;FMTTYPE=text/html:<div>Este S&aacute\;bado\, Febrero 15 desde las 10am hasta 2pm\, vamos a estar ofreciendo vacunas gratis contra el COVID y el FLU para personas que no tienen seguro m&eacute\;dico.&nbsp\;<br />\n<br />\nRegistrate al 859.261.0862<br />\n<br />\nDonde: 234 W. Pike St Covington\, KY 41011<br />\n<br />\nSe brindar&aacute\; comida y se rifar&aacute\;n 8 tarjetas de KROGER entre todos los participantes al final del d&iacute\;a.<br />\n<br />\nThis is in partnership with the Northern Kentucky Health Department and the Foundation for a Healthy Kentucky.</div>\n
LOCATION:234 W. Pike St Covington\, KY 41011
UID:e.818.21229
SEQUENCE:3
DTSTAMP:20260423T092545Z
URL:https://business.hispanicchambercincinnati.com/events/details/free-covid-and-flu-vaccines-at-esperanza-21229
END:VEVENT

END:VCALENDAR
