BEGIN:VCALENDAR
VERSION:2.0
PRODID:-//ChamberMaster//Event Calendar 2.0//EN
METHOD:PUBLISH
X-PUBLISHED-TTL:P3D
REFRESH-INTERVAL:P3D
CALSCALE:GREGORIAN
BEGIN:VEVENT
DTSTART:20230914T224500Z
DTEND:20230915T010000Z
X-MICROSOFT-CDO-ALLDAYEVENT:FALSE
SUMMARY:Freedom Film Series: A Higher Law: The Oberlin-Wellington Rescue of 1858
DESCRIPTION:The Oberlin-Wellington Rescue of 1858 played a pivotal role in the history of abolitionism in the United States. A group of 37 white and Black men in Ohio were charged with violating the Fugitive Slave Act of 1850 for intervening in the kidnapping of freedom seeker John Price. The events that followed ultimately kept the issue of slavery at the forefront of national discussion leading up to and during the Civil War. Discover an amazing story of courageous abolitionism in Ohio and how it impacted the nation through the film: A Higher Law: The Oberlin-Wellington Rescue of 1858.\n\n6:45 p.m. Doors open\n\n7:00 p.m. Film screening (run time approx. 90 minutes)\n\n8:30 p.m. Discussion and Q&A with the film producers Scott Spears & Christina Paolucci\n\nNote: Guests should enter at the Rosa Parks Street Entrance located on the west side of the building.\n\nThis program is free and open to the public\; registration is required:\n\n\n\n\n\n\n\nREGISTER
X-ALT-DESC;FMTTYPE=text/html:<div data-index="7" id="panel-4384-2-0-0">\n<div>\n<div>\n<div>\n<div data-index="7" id="panel-4404-2-0-0">\n<div>\n<div>\n<div>\n<p>The Oberlin-Wellington Rescue of 1858 played a pivotal role in the history of abolitionism in the United States. A group of 37 white and Black men in Ohio were charged with violating the Fugitive Slave Act of 1850 for intervening in the kidnapping of freedom seeker John Price. The events that followed ultimately kept the issue of slavery at the forefront of national discussion leading up to and during the Civil War. Discover an amazing story of courageous abolitionism in Ohio and how it impacted the nation through the film:&nbsp\;A Higher Law: The Oberlin-Wellington Rescue of 1858.</p>\n\n<p>6:45 p.m. Doors open<br />\n7:00 p.m. Film screening (run time approx. 90 minutes)<br />\n8:30 p.m. Discussion and Q&amp\;A with the film producers Scott Spears &amp\; Christina Paolucci</p>\n\n<p>Note:&nbsp\;Guests should enter at the Rosa Parks Street Entrance located on the west side of the building.</p>\n\n<h4>This program is free and open to the public\; registration is required:</h4>\n</div>\n</div>\n</div>\n</div>\n\n<div data-index="8" id="panel-4404-2-0-1">\n<div>\n<div><a href="https://share.hsforms.com/1I7o5DeXxTMinto84sxkgVQd33r9?__hstc=12409899.3fd4c024108de2d506c3341485b11c1d.1670945776443.1691696531382.1693936733434.8&amp\;__hssc=12409899.4.1693936733434&amp\;__hsfp=551255700" rel="noopener noreferrer" target="_blank">REGISTER</a></div>\n</div>\n</div>\n</div>\n</div>\n</div>\n</div>\n\n<div data-index="9" id="panel-4384-2-0-2">\n<div>\n<div>&nbsp\;</div>\n</div>\n</div>\n
LOCATION:National Underground Railroad Freedom Center Harriet Tubman Theater 50 East Freedom Way Cincinnati\, OH 45202
UID:e.818.19167
SEQUENCE:3
DTSTAMP:20260421T053910Z
URL:https://business.hispanicchambercincinnati.com/events/details/freedom-film-series-a-higher-law-the-oberlin-wellington-rescue-of-1858-19167
END:VEVENT

END:VCALENDAR
