BEGIN:VCALENDAR
VERSION:2.0
PRODID:-//ChamberMaster//Event Calendar 2.0//EN
METHOD:PUBLISH
X-PUBLISHED-TTL:P3D
REFRESH-INTERVAL:P3D
CALSCALE:GREGORIAN
BEGIN:VEVENT
DTSTART:20250305T160000Z
DTEND:20250305T193000Z
X-MICROSOFT-CDO-ALLDAYEVENT:FALSE
SUMMARY:Getting Paid in Global Markets Trade
DESCRIPTION:Join us for an interactive Lunch & Learn seminar featuring finance experts from the U.S. Commercial Service\, U.S. Export-Import Bank\, U.S. Small Business Administration\, Ohio MBDA Business Center\, Ohio Department of Development's Minority Business Assistance Center\, and experienced local international bankers. This seminar is designed to help new-to-export small and medium-sized enterprises (SMEs) learn the basics of trade finance and to understand how to mitigate the risk of non-payment while winning the new cross-border sales opportunities and accommodating the needs of foreign buyers at the same time.
X-ALT-DESC;FMTTYPE=text/html:<p>Join us for an interactive Lunch &amp\; Learn seminar featuring finance experts from the U.S. Commercial Service\, U.S. Export-Import Bank\, U.S. Small Business Administration\, Ohio MBDA Business Center\, Ohio Department of Development&rsquo\;s Minority Business Assistance Center\, and experienced local international bankers. This seminar is designed to help new-to-export small and medium-sized enterprises (SMEs) learn the basics of trade finance and to understand how to mitigate the risk of non-payment while winning the new cross-border sales opportunities and accommodating the needs of foreign buyers at the same time.</p>\n
LOCATION:Toledo\, Maritime Plaza\, Toledo\, OH 43604\, USA
UID:e.818.21243
SEQUENCE:3
DTSTAMP:20260423T110423Z
URL:https://business.hispanicchambercincinnati.com/events/details/getting-paid-in-global-markets-trade-21243
END:VEVENT

END:VCALENDAR
