BEGIN:VCALENDAR
VERSION:2.0
PRODID:-//ChamberMaster//Event Calendar 2.0//EN
METHOD:PUBLISH
X-PUBLISHED-TTL:P3D
REFRESH-INTERVAL:P3D
CALSCALE:GREGORIAN
BEGIN:VEVENT
DTSTART:20220810T190000Z
DTEND:20220810T200000Z
X-MICROSOFT-CDO-ALLDAYEVENT:FALSE
SUMMARY:Guest Lecture: University of Professional Studies\, Accra (UPSA)
DESCRIPTION:This special presentation illustrates Union Institute & University's expansion of its mission to provide educational equity worldwide with the University of Professional Studies\, Accra (UPSA) in Ghana. The partnership will enable Union to offer a Ph.D. in Interdisciplinary Studies with concentrations in Educational Studies\, Ethical & Creative Leadership\, Humanities & Culture\, and Public Policy & Social Change.
X-ALT-DESC;FMTTYPE=text/html:This special presentation illustrates Union Institute &amp\; University&rsquo\;s expansion of its mission to provide educational equity worldwide with the University of Professional Studies\, Accra (UPSA) in Ghana. The partnership will enable Union to offer a Ph.D. in Interdisciplinary Studies with concentrations in Educational Studies\, Ethical &amp\; Creative Leadership\, Humanities &amp\; Culture\, and Public Policy &amp\; Social Change.
LOCATION:Union Institute & University 2090 Florence Avenue Cincinnati\, OH 45206
UID:e.818.17926
SEQUENCE:3
DTSTAMP:20260424T130150Z
URL:https://business.hispanicchambercincinnati.com/events/details/guest-lecture-university-of-professional-studies-accra-upsa-17926
END:VEVENT

END:VCALENDAR
