BEGIN:VCALENDAR
VERSION:2.0
PRODID:-//ChamberMaster//Event Calendar 2.0//EN
METHOD:PUBLISH
X-PUBLISHED-TTL:P3D
REFRESH-INTERVAL:P3D
CALSCALE:GREGORIAN
BEGIN:VEVENT
DTSTART:20250512T120000Z
DTEND:20250512T170000Z
X-MICROSOFT-CDO-ALLDAYEVENT:FALSE
SUMMARY:Hamilton County's 3rd Annual Small Business Day
DESCRIPTION:Back by popular demand\, register today for the 3rd annual Hamilton County Small Business Day on Monday\, May 12\, 2025\, at the Cintas Center at Xavier University. Registration begins at 8:00 a.m.\n\nDive into a bustling atmosphere with small business service providers giving hands-on assistance. Connect with local entrepreneurs\, discover services\, and join workshops designed to grow your business.\n\nWhat to expect:\n\n\n	State of Small Business Address by County Commissioners\n	Step into a hub of opportunity with large companies in the Deal Zone.\n	Connect to County Contracting\, major government projects\, and certifications.\n	Expand your network with industry experts\, mentors\, and service providers.\n	Engage in expert-led workshops on key topics such as business planning\, marketing\, community engagement\, back-office support\, access to capital\, and more!\n\n\n \n\nNEW: Deal Zone Announced\n\nSmall businesses can sign up for one 15-minute meeting with a larger company to learn about typical projects and how to get involved. These pre-scheduled meetings will take place from 10:00 AM to 12:00 PM.\n\nFrom 12:00 PM to 1:00 PM\, we'll host an open house hour where small businesses can drop in and connect without an appointment. Learn More.\n\nConfirmed Participants\n\n\n	3CDC\n	Cincinnati Children's Hospital\n	Cincinnati Metro\n	Cincinnati Metropolitan Housing Authority\n	Greater Cincinnati Water Works\n	Messer Construction\n	Metropolitan Sewer District of Greater Cincinnati (MSD)\n	Monarch Construction\n	Prus Construction\n	Skanska\n	The Cincinnati Zoo\n	The Model Group Construction\n	The Port of Greater Cincinnati\n	Turner Construction\n	The Walsh/Kokosing Joint Venture and Make It Plain Consulting (Brent Spence Bridge Project)
X-ALT-DESC;FMTTYPE=text/html:<p>Back by popular demand\, register today for the 3rd annual&nbsp\;Hamilton County Small Business Day&nbsp\;on Monday\, May 12\, 2025\, at the Cintas Center at Xavier University. Registration begins at&nbsp\;8:00 a.m.</p>\n\n<p>Dive into a bustling atmosphere with small business service providers giving hands-on assistance. Connect with local entrepreneurs\, discover services\, and join workshops designed to grow your business.</p>\n\n<p>What to expect:</p>\n\n<ul>\n	<li>State of Small Business Address by County Commissioners</li>\n	<li>Step into a hub of opportunity with large companies in the Deal Zone.</li>\n	<li>Connect to County Contracting\, major government projects\, and certifications.</li>\n	<li>Expand your network with industry experts\, mentors\, and service providers.</li>\n	<li>Engage in expert-led workshops on key topics such as business planning\, marketing\, community engagement\, back-office support\, access to capital\, and more!</li>\n</ul>\n\n<p>&nbsp\;</p>\n\n<p>NEW: Deal Zone Announced</p>\n\n<p>Small businesses can sign up for one 15-minute meeting with a larger company to learn about typical projects and how to get involved. These pre-scheduled meetings will take place from&nbsp\;10:00 AM to 12:00 PM.</p>\n\n<p>From&nbsp\;12:00 PM to 1:00 PM\, we&rsquo\;ll host an&nbsp\;open house hour&nbsp\;where small businesses can drop in and connect without an appointment.&nbsp\;<a data-msys-clicktrack="0" href="https://www.signupgenius.com/go/10C0B4AAAA823A1F8CE9-55914700-hamilton#/" rel="nofollow noopener noreferrer" target="_blank" title="https://www.signupgenius.com/go/10C0B4AAAA823A1F8CE9-55914700-hamilton#/">Learn More</a>.</p>\n\n<p>Confirmed Participants</p>\n\n<ol>\n	<li>3CDC</li>\n	<li>Cincinnati Children&#39\;s Hospital</li>\n	<li>Cincinnati Metro</li>\n	<li>Cincinnati Metropolitan Housing Authority</li>\n	<li>Greater Cincinnati Water Works</li>\n	<li>Messer Construction</li>\n	<li>Metropolitan Sewer District of Greater Cincinnati (MSD)</li>\n	<li>Monarch Construction</li>\n	<li>Prus Construction</li>\n	<li>Skanska</li>\n	<li>The Cincinnati Zoo</li>\n	<li>The Model Group Construction</li>\n	<li>The Port of Greater Cincinnati</li>\n	<li>Turner Construction</li>\n	<li>The Walsh/Kokosing Joint Venture and Make It Plain Consulting (Brent Spence Bridge Project)</li>\n</ol>\n
LOCATION:Cintas Center 1624 Musketeer Drive Cincinnati\, OH 45207
UID:e.818.21641
SEQUENCE:3
DTSTAMP:20260424T100557Z
URL:https://business.hispanicchambercincinnati.com/events/details/hamilton-county-s-3rd-annual-small-business-day-21641
END:VEVENT

END:VCALENDAR
