BEGIN:VCALENDAR
VERSION:2.0
PRODID:-//ChamberMaster//Event Calendar 2.0//EN
METHOD:PUBLISH
X-PUBLISHED-TTL:P3D
REFRESH-INTERVAL:P3D
CALSCALE:GREGORIAN
BEGIN:VEVENT
DTSTART:20240520T130000Z
DTEND:20240520T160000Z
X-MICROSOFT-CDO-ALLDAYEVENT:FALSE
SUMMARY:Hamilton County Small Business Day
DESCRIPTION:Join us for a morning packed with Hamilton County small business resources! Don't miss out join us and take your business to new heights!\nBack by popular demand\, register today for the second annual Hamilton County Small Business Day on Monday\, May 20\, 2024\, from 9 a.m. to 12:00 p.m. at the Sharonville Convention Center!\n\nDive into a bustling atmosphere with small business service providers giving hands-on assistance. Connect with local entrepreneurs\, discover services\, and join workshops designed to grow your business.\n\nWhat to expect:\n\n\n	Discover your perfect business match during our matchmaking sessions.\n	Connect to county contracting\, major government projects and government certifications.\n	Expand your network with industry experts\, mentors\, and service providers.\n	Engage in expert-led workshops on key topics such as business planning\, marketing\, community engagement\, back office support\, access to capital\, and more!\n\n\nPlease check this event registration page regularly as we will provide updates on providers and agendas.
X-ALT-DESC;FMTTYPE=text/html:Join us for a morning packed with Hamilton County small business resources! Don&#39\;t miss out&mdash\;join us and take your business to new heights!\n<p>Back by popular demand\, register today for the second annual&nbsp\;Hamilton County Small Business Day&nbsp\;on Monday\, May 20\, 2024\, from 9 a.m. to 12:00 p.m. at the Sharonville Convention Center!</p>\n\n<p>Dive into a bustling atmosphere with small business service providers giving hands-on assistance. Connect with local entrepreneurs\, discover services\, and join workshops designed to grow your business.</p>\n\n<p>What to expect:</p>\n\n<ul>\n	<li>Discover your perfect business match during our matchmaking sessions.</li>\n	<li>Connect to county contracting\, major government projects and government certifications.</li>\n	<li>Expand your network with industry experts\, mentors\, and service providers.</li>\n	<li>Engage in expert-led workshops on key topics such as business planning\, marketing\, community engagement\, back office support\, access to capital\, and more!</li>\n</ul>\n\n<p>Please check this event registration page regularly as we will provide updates on providers and agendas.</p>\n
LOCATION:Sharonville Convention Center 11355 Chester Road Sharonville\, OH 45246
UID:e.818.19914
SEQUENCE:3
DTSTAMP:20260421T181609Z
URL:https://business.hispanicchambercincinnati.com/events/details/hamilton-county-small-business-day-19914
END:VEVENT

END:VCALENDAR
