BEGIN:VCALENDAR
VERSION:2.0
PRODID:-//ChamberMaster//Event Calendar 2.0//EN
METHOD:PUBLISH
X-PUBLISHED-TTL:P3D
REFRESH-INTERVAL:P3D
CALSCALE:GREGORIAN
BEGIN:VEVENT
DTSTART:20220813T233000Z
DTEND:20220814T010000Z
X-MICROSOFT-CDO-ALLDAYEVENT:FALSE
SUMMARY:Harp Fantastique
DESCRIPTION:Prelude Talk: 6:45pm | SCPA Mayerson Theater\n\nEckart Preu\, conductor\n\n\n"Harp Fantastique" celebrates the harp at the center of a program that tells stories of human passion and transformation. Born in Moldova\, Ina Zdorovetchi is an internationally recognized harp virtuoso.\n\n\n\nGy rgy Ligeti is known as an avant-garde composer par excellence. His music has been used in many movies like The Shining and Eyes Wide Shut. His Concerto Romanesc reflects on his early childhood in Romania and his first encounters with Romanian folk music: alphorn players in the Carpathian Mountains\, virtuoso fiddlers\, honking bagpipes\, and masked musicians terrifying the children. This is orchestral folk music at its best: original\, rough\, wild.\n\nArturo Marquez is one of the most prominent Mexican composers of our time. Hailing from a family of Mariachi and folk musicians\, his music is influenced by the rhythms\, melodies\, and harmonies of the dance halls in Mexico City. Masks are an important part of Mexican culture\, and are symbols of religious\, social\, spiritual\, and political significance. In his Concerto for Harp "Mascaras" ("Masks")\, Arturo Marquez tells of the rejection of the original peoples of Mexico and the resiliency and heart of the Mexican people through Marquez's famous danzon.\n\nHector Berlioz' Symphonie Fantastique (Fantastic Symphony) was revolutionary in its musical language. Even now\, 190 years later\, its musical language is fresh\, original\, and captivating. Conceived as an autobiographical dreamscape\, the symphony follows the passion for a beautiful woman\, Harriet Smithson. In this new re-imagination of Symphonie Fantastique by French composer Arthur Lavandier\, audiences will experience his obsession and pursuit of love in a new light. In this North America premiere\, we experience a new interpretation the familiar masterwork. Intended as a 'recreation\,' it is an open-minded tribute to the genius of Berlioz' masterpiece.\n\nEckart Preu\, conductor\n\nIna Zdorovetchi\, harp\n\nLes Winds Fantastiques\n\nGY RGY LIGETI: Concerto Romanesc (CCO Premiere)\n\nARTURO MARQUEZ: Concerto for Harp\, "Mascaras" (CCO Premiere)\n\nHECTOR BERLIOZ\, arr. ARTHUR LAVANDIER: Symphonie Fantastique (North American Premiere)\n\nApproximately 2 hours and 30 minutes with a 15-minute intermission\n\nWine will be available for purchase\n\n\n\n The 2022 Summermusik festival is presented by Chavez Properties.
X-ALT-DESC;FMTTYPE=text/html:<div>\n<p>Prelude Talk: 6:45pm | SCPA Mayerson Theater</p>\n\n<p>Eckart Preu\, conductor</p>\n</div>\n\n<p>&ldquo\;Harp Fantastique&rdquo\; celebrates the harp at the center of a program that tells stories of human passion and&nbsp\;transformation. Born in Moldova\, Ina Zdorovetchi is an internationally recognized harp virtuoso.</p>\n\n<div>\n<div>\n<p>Gy&ouml\;rgy Ligeti is known as an avant-garde composer par excellence. His music has been used in many&nbsp\;movies like The Shining and Eyes Wide Shut. His Concerto Romanesc reflects on his early childhood in&nbsp\;Romania and his first encounters with Romanian folk music: alphorn players in the Carpathian Mountains\,&nbsp\;virtuoso fiddlers\, honking bagpipes\, and masked musicians terrifying the children. This is orchestral folk&nbsp\;music at its best: original\, rough\, wild.</p>\n\n<p>Arturo Marquez is one of the most prominent Mexican composers of our time. Hailing from a family of&nbsp\;Mariachi and folk musicians\, his music is influenced by the rhythms\, melodies\, and harmonies of the dance&nbsp\;halls in Mexico City. Masks are an important part of Mexican culture\, and are symbols of religious\, social\,&nbsp\;spiritual\, and political significance. In his Concerto for Harp &ldquo\;Mascaras&rdquo\; (&ldquo\;Masks&rdquo\;)\, Arturo Marquez tells of&nbsp\;the rejection of the original peoples of Mexico and the resiliency and heart of the Mexican people through&nbsp\;Marquez&rsquo\;s famous danzon.</p>\n\n<p>Hector Berlioz&rsquo\; Symphonie Fantastique (Fantastic Symphony) was revolutionary in its musical language. Even now\, 190 years later\, its musical language is fresh\, original\, and captivating. Conceived as an&nbsp\;autobiographical dreamscape\, the symphony follows the passion for a beautiful woman\, Harriet Smithson.&nbsp\;In this new re-imagination of Symphonie Fantastique by French composer Arthur Lavandier\, audiences will&nbsp\;experience his obsession and pursuit of love in a new light. In this North America premiere\, we experience&nbsp\;a new interpretation the familiar masterwork. Intended as a &lsquo\;recreation\,&rsquo\; it is an open-minded tribute to the&nbsp\;genius of Berlioz&rsquo\; masterpiece.</p>\n\n<p>Eckart Preu\, conductor</p>\n\n<p>Ina Zdorovetchi\, harp</p>\n\n<p>Les Winds Fantastiques</p>\n\n<p>GY&Ouml\;RGY LIGETI: Concerto Romanesc (CCO Premiere)</p>\n\n<p>ARTURO MARQUEZ: Concerto for Harp\, &ldquo\;Mascaras&rdquo\; (CCO Premiere)</p>\n\n<p>HECTOR BERLIOZ\, arr.&nbsp\;ARTHUR LAVANDIER: Symphonie Fantastique&nbsp\;(North American Premiere)</p>\n\n<p>Approximately 2 hours and 30 minutes with a 15-minute intermission</p>\n\n<p>Wine will be available for purchase<br />\n<br />\n&#8203\;<strong>The 2022 Summermusik festival is presented by Chavez Properties.</strong></p>\n</div>\n</div>\n
LOCATION:School for Creative & Performing Arts Corbett Theatre\, DOWNTOWN 108 W Central Pkwy\, Cincinnati\, OH 45202
UID:e.818.17871
SEQUENCE:3
DTSTAMP:20260424T125542Z
URL:https://business.hispanicchambercincinnati.com/events/details/harp-fantastique-17871
END:VEVENT

END:VCALENDAR
