BEGIN:VCALENDAR
VERSION:2.0
PRODID:-//ChamberMaster//Event Calendar 2.0//EN
METHOD:PUBLISH
X-PUBLISHED-TTL:P3D
REFRESH-INTERVAL:P3D
CALSCALE:GREGORIAN
BEGIN:VEVENT
DTSTART:20240409T160000Z
DTEND:20240409T170000Z
X-MICROSOFT-CDO-ALLDAYEVENT:FALSE
SUMMARY:HCCUSA Business Leads Lunch - April 2024
DESCRIPTION:JOIN US IN OUR MOST POPULAR NETWORKING MEETING EVENT.\n\nLet's Smart Network and learn from others doing business in the community.\n\n\n\nWhen:\n\nTuesday\, April 9 \, 2024 at 12:00 PM\n\n\n\nWhere:\n\nMi Cozumel Restaurant @ Oakley Station\n\n3100 Vandercar Way\, Cincinnati\, OH 45209\n\n(Free parking)\n\n\n\nSpecial Lunch Menu: There is a new menu every month!!!\n\nDrink options: Pepsi products\, iced tea\, and flavored waters: horchata and pineapple\; please ask your server for more flavors! (Two refills per person). + Tip: $15.00 per person\nLUNCH MENU OPTIONS\n\n1.- Tampique a: Carne asada & cheese enchilada suiza (green tomatillo sauce) with sour cream\, refried beans\, guacamole\, traditional "tatemada" sauce and tortillas.\n\n \n\n2.- Mayan Grill Salmon: Grilled salmon served with roasted veggies\, rice\, grilled pineapple\, lime crema\, chipotle aioli\, and avocado puree.\n\n \n\n3.- Pollo Sabroso: Chicken breast topped with grilled onions\, mushrooms\, and zucchini\, served with white rice and cheese sauce.\n\n \n\n4.- Epic Avocado Toast: Well-toasted bread topped with creamy smashed fresh avocado\, mixed greens\, pecorino cheese\, onions\, cucumbers\, cherry tomatoes\, egg (Pick your cook preference)\, and red tomato vinaigrette.\n\n \nNetworking:\n\n\n	Bring your business cards\n	Present your organization\n	Get connected and promote your business with other individuals doing business with the fastest-growing community\n	Gain knowledge from the "learning experiences" of other members\n	Learn about upcoming events\n\nPRE-REGISTRATION IS REQUIRED
X-ALT-DESC;FMTTYPE=text/html:<p>JOIN US IN OUR MOST POPULAR NETWORKING MEETING EVENT.</p>\n\n<p>Let&#39\;s Smart Network and learn from&nbsp\;others doing business in the community.<br />\n<br />\n<strong>When:</strong><br />\nTuesday\, April 9&nbsp\;\,&nbsp\;2024&nbsp\;at 12:00 PM<br />\n<br />\n<strong>Where:</strong><br />\nMi Cozumel Restaurant @ Oakley Station<br />\n3100 Vandercar Way\,&nbsp\;Cincinnati\, OH 45209<br />\n<em>(Free parking)</em><br />\n<br />\n<strong>Special Lunch Menu:</strong><em> There is a new&nbsp\;menu every month!!!</em><br />\n<em>Drink options: Pepsi products\, iced tea\, and flavored waters: horchata and pineapple\; please ask your server for more flavors! (Two refills per person). + Tip: <strong>$15.00 </strong>per person</em></p>\n<strong>LUNCH MENU OPTIONS</strong><br />\n<strong>1.- Tampique&ntilde\;a:&nbsp\;</strong>Carne asada &amp\; cheese enchilada suiza (green tomatillo sauce) with sour cream\, refried beans\, guacamole\, traditional &ldquo\;tatemada&rdquo\; sauce and tortillas.<br />\n&nbsp\;<br />\n<strong>2.- Mayan Grill Salmon: </strong>Grilled salmon served with roasted veggies\, rice\, grilled pineapple\, lime crema\, chipotle aioli\, and avocado puree.<br />\n&nbsp\;<br />\n<strong>3.- Pollo Sabroso: </strong>Chicken breast topped with grilled onions\, mushrooms\, and zucchini\, served with white rice and cheese sauce.<br />\n&nbsp\;<br />\n<strong>4.- Epic Avocado Toast: </strong>Well-toasted bread topped with creamy smashed fresh avocado\, mixed greens\, pecorino cheese\, onions\, cucumbers\, cherry tomatoes\, egg (Pick your cook preference)\, and red tomato vinaigrette.<br />\n&nbsp\;\n<div><strong>Networking:</strong>\n\n<ul>\n	<li color:="" new="" overflow-wrap:="" times="">Bring your business cards</li>\n	<li color:="" new="" overflow-wrap:="" times="">Present your organization</li>\n	<li color:="" new="" overflow-wrap:="" times="">Get connected and promote your business with other individuals doing business with the fastest-growing community</li>\n	<li color:="" new="" overflow-wrap:="" times="">Gain knowledge from the &quot\;learning experiences&quot\; of other members</li>\n	<li color:="" new="" overflow-wrap:="" times="">Learn about upcoming events</li>\n</ul>\n<strong style="caret-color: rgb(255\, 0\, 0)\; color: rgb(255\, 0\, 0)\;">PRE-REGISTRATION IS REQUIRED</strong></div>\n
LOCATION:Mi Cozumel Oakley Station 3100 Vandercar Way Cincinnati\, OH 45209 PRE-REGISTRATION IS REQUIRED
UID:e.818.19878
SEQUENCE:3
DTSTAMP:20260420T123853Z
URL:https://business.hispanicchambercincinnati.com/events/details/hccusa-business-leads-lunch-april-2024-19878
END:VEVENT

END:VCALENDAR
