BEGIN:VCALENDAR
VERSION:2.0
PRODID:-//ChamberMaster//Event Calendar 2.0//EN
METHOD:PUBLISH
X-PUBLISHED-TTL:P3D
REFRESH-INTERVAL:P3D
CALSCALE:GREGORIAN
BEGIN:VEVENT
DTSTART:20231114T170000Z
DTEND:20231114T180000Z
X-MICROSOFT-CDO-ALLDAYEVENT:FALSE
SUMMARY:HCCUSA Business Leads Lunch @ Mi Cozumel Oakley Station
DESCRIPTION:JOIN US AT ONE OF OUR MOST POPULAR NETWORKING MEETING EVENTS IN CINCINNATI\n\nLet's Smart Network and learn from others doing business in the community.\n\n\n\nWhen:\n\nTuesday\, November 14th\, 2023 at 12:00 PM\n\n\n\nWhere:\n\nMi Cozumel Restaurant @ Oakley Station\n\n3100 Vandercar Way\, Cincinnati\, OH 45209\n\n(Free parking)\n\n\n\nSpecial Lunch Menu: New menu every month!!!\n\n(Soft Drink/Aguas Fresca + Tip): $15.00 per person\nDRINK OPTIONS:\n\nPepsi products\, iced tea\, flavored waters: Horchata\, Pineapple\, please ask your server for more flavors! (Two refills per person). \n\n\n\nLUNCH OPTIONS:\n\n	FETTUCHINNE VERDE\n\n	Made with green creamy salsa verde (poblano & cream)\, grilled chicken\, garlic bread.  \n\n	 \n	TILAPIA VINAGRETA\n\n	Tilapia filet\, white rice\, vinaigrette & Dijon steam veggies. \n\n	 \n	COZUMEL TAMAL\n\n	Birria tamal\, guacamole rustic\, black beans\, sunny side up egg\, corn\, sour cream micro cilantro.\n\n	 \n	EMPANADA AHOGADA\n\n	Birria & cheese empanada\, lettuce\, sour cream\, onions & cilantro. Covered with spicy tomatillo sauce & cotija cheese. \n\n	 \n	OTO O SALAD \n\n	Grilled lettuce with garlic\, garlic bread\, tomato vinaigrette. \n\n\n\nLUNCH MENU OPTIONS:\n\n\n\nNetworking:\n\n\n	Bring your business cards\n	Present your organization\n	Get connected and promote your business with other individuals doing business with the fastest-growing community\n	Gain knowledge from the "learning experiences" of other members\n	Learn about upcoming events\n\nPRE-REGISTRATION IS REQUIRED
X-ALT-DESC;FMTTYPE=text/html:<p>JOIN US AT ONE OF OUR MOST POPULAR NETWORKING MEETING EVENTS IN CINCINNATI<br />\nLet&#39\;s Smart Network and learn from&nbsp\;others doing business in the community.<br />\n<br />\n<strong>When:</strong><br />\nTuesday\, November 14th\, 2023&nbsp\;at 12:00 PM<br />\n<br />\n<strong>Where:</strong><br />\nMi Cozumel Restaurant @ Oakley Station<br />\n3100 Vandercar Way\,&nbsp\;Cincinnati\, OH 45209<br />\n<em>(Free parking)</em><br />\n<br />\n<strong>Special Lunch Menu:&nbsp\;</strong><em>New menu every month!!!</em><br />\n<em>(Soft Drink/Aguas Fresca&nbsp\;+ Tip)</em>: <strong>$15.00 </strong>per person</p>\n<strong>DRINK OPTIONS:</strong><br />\nPepsi products\, iced tea\, flavored waters: Horchata\, Pineapple\, please ask your server for more flavors! (Two refills per person).&nbsp\;<br />\n<br />\nLUNCH OPTIONS:\n<ul>\n	<li>FETTUCHINNE VERDE<br />\n	Made with green creamy salsa verde (poblano &amp\; cream)\, grilled chicken\, garlic bread. &nbsp\;<br />\n	&nbsp\;</li>\n	<li>TILAPIA VINAGRETA<br />\n	Tilapia filet\, white rice\, vinaigrette &amp\; Dijon steam veggies.&nbsp\;<br />\n	&nbsp\;</li>\n	<li>COZUMEL TAMAL<br />\n	Birria tamal\, guacamole rustic\, black beans\, sunny side up egg\, corn\, sour cream micro cilantro.<br />\n	&nbsp\;</li>\n	<li>EMPANADA AHOGADA<br />\n	Birria &amp\; cheese empanada\, lettuce\, sour cream\, onions &amp\; cilantro. Covered with spicy tomatillo sauce &amp\; cotija cheese.&nbsp\;<br />\n	&nbsp\;</li>\n	<li>OTO&Ntilde\;O SALAD&nbsp\;<br />\n	Grilled lettuce with garlic\, garlic bread\, tomato vinaigrette.&nbsp\;</li>\n</ul>\n<br />\n<strong>LUNCH MENU OPTIONS:</strong><br />\n<br />\n<strong>Networking:</strong>\n\n<ul>\n	<li color:="" new="" overflow-wrap:="" times="">Bring your business cards</li>\n	<li color:="" new="" overflow-wrap:="" times="">Present your organization</li>\n	<li color:="" new="" overflow-wrap:="" times="">Get connected and promote your business with other individuals doing business with the fastest-growing community</li>\n	<li color:="" new="" overflow-wrap:="" times="">Gain knowledge from the &quot\;learning experiences&quot\; of other members</li>\n	<li color:="" new="" overflow-wrap:="" times="">Learn about upcoming events</li>\n</ul>\n<strong style="caret-color: rgb(255\, 0\, 0)\; color: rgb(255\, 0\, 0)\;">PRE-REGISTRATION IS REQUIRED</strong>
LOCATION:Mi Cozumel Oakley Station 3100 Vandercar Way Cincinnati\, OH 45209 PRE-REGISTRATION IS REQUIRED
UID:e.818.18979
SEQUENCE:3
DTSTAMP:20260420T191934Z
URL:https://business.hispanicchambercincinnati.com/events/details/hccusa-business-leads-lunch-mi-cozumel-oakley-station-18979
END:VEVENT

END:VCALENDAR
