BEGIN:VCALENDAR
VERSION:2.0
PRODID:-//ChamberMaster//Event Calendar 2.0//EN
METHOD:PUBLISH
X-PUBLISHED-TTL:P3D
REFRESH-INTERVAL:P3D
CALSCALE:GREGORIAN
BEGIN:VEVENT
DTSTART:20220531T213000Z
DTEND:20220531T233000Z
X-MICROSOFT-CDO-ALLDAYEVENT:FALSE
SUMMARY:HCCUSA: In-Person Networking Meeting
DESCRIPTION:Joins us in our first In-Person Networking Meeting of the year!\n\n\n\nAfter a couple of years of virtual networking meetings\, we are back to our traditional in-person networking meeting. Bring your business cards and be ready to connect with other individuals/companies looking for services\, meet new faces\, and/or connect with long-time friends.\n\n\n\nIs our treat! Come and enjoy delicious food from "The Empanada's Box"\n\n\n\nIf you are not able to participate in person\, you will have the opportunity to do it via zoom chat during the event. When registering choose either "Networking Meeting" or "Zoom Participation via Chat".\n\n\n\nNote: The state's mask order expired June 2\, 2021\, as the Ohio Department of Health lifted most other pandemic health orders. However\, is the guest's decision to wear a mask or if you are not fully vaccinated is recommended to wear one.
X-ALT-DESC;FMTTYPE=text/html:<p><strong>Joins us in our first In-Person Networking Meeting of the year!</strong><br />\n<br />\nAfter a couple of years of virtual networking meetings\, we are back to our traditional in-person networking meeting. Bring your business cards and be ready to connect with other individuals/companies looking for services\, meet new faces\, and/or connect with long-time friends.<br />\n<br />\nIs our treat! Come and enjoy delicious food from &quot\;The Empanada&#39\;s Box&quot\;<br />\n<br />\nIf you are not able to participate in person\, you will have the opportunity to do it via zoom chat during the event. When registering choose either <em>&quot\;Networking Meeting&quot\;</em> or <em>&quot\;Zoom Participation via Chat&quot\;</em>.<br />\n<br />\n<span style="color:#B22222\;"><em>Note: The state&#39\;s mask order expired June 2\, 2021\, as the Ohio Department of Health lifted most other pandemic health orders. However\, is the guest&#39\;s decision to wear a mask or if you are not fully vaccinated is recommended to wear one.</em></span></p>\n
LOCATION:American Red Cross 2111 Dana Ave Cincinnati OH 45207 PLEASE REGISTER FOR THE EVENT BY FRIDAY\, MAY 27
UID:e.818.17765
SEQUENCE:3
DTSTAMP:20260422T063516Z
URL:https://business.hispanicchambercincinnati.com/events/details/hccusa-in-person-networking-meeting-17765
END:VEVENT

END:VCALENDAR
