BEGIN:VCALENDAR
VERSION:2.0
PRODID:-//ChamberMaster//Event Calendar 2.0//EN
METHOD:PUBLISH
X-PUBLISHED-TTL:P3D
REFRESH-INTERVAL:P3D
CALSCALE:GREGORIAN
BEGIN:VEVENT
DTSTART:20221021T223000Z
DTEND:20221022T010000Z
X-MICROSOFT-CDO-ALLDAYEVENT:FALSE
SUMMARY:Healthy Moms & Babes Annual Dinner
DESCRIPTION:Join us on October 21st\, 2022\, at the National Underground Railroad Freedom Center at 6:30 pm for our Annual Dinner!\n\nWe will be celebrating Healthy Moms and Babes and honoring two amazing women.\n\nGet tickets below.\n\nCan't go but still want to support Healthy Moms and Babes you can donate below!
X-ALT-DESC;FMTTYPE=text/html:Join us on October 21st\, 2022\, at the National Underground Railroad Freedom Center at 6:30 pm for our Annual Dinner!<br />\nWe will be celebrating Healthy Moms and Babes and honoring two amazing women.<br />\nGet tickets below.<br />\nCan&rsquo\;t go but still want to support Healthy Moms and Babes you can donate below!
LOCATION:National Underground Railroad Freedom Center 50 E Freedom Way\, Cincinnati\, OH 45202
UID:e.818.18041
SEQUENCE:3
DTSTAMP:20260421T215440Z
URL:https://business.hispanicchambercincinnati.com/events/details/healthy-moms-babes-annual-dinner-18041
END:VEVENT

END:VCALENDAR
