BEGIN:VCALENDAR
VERSION:2.0
PRODID:-//ChamberMaster//Event Calendar 2.0//EN
METHOD:PUBLISH
X-PUBLISHED-TTL:P3D
REFRESH-INTERVAL:P3D
CALSCALE:GREGORIAN
BEGIN:VEVENT
DTSTART:20230717T160000Z
DTEND:20230717T170000Z
X-MICROSOFT-CDO-ALLDAYEVENT:FALSE
SUMMARY:Hispanic Affinity Forum meeting
DESCRIPTION:The Hispanic Affinity Forum (HAF) is a quarterly meeting for ERG/Affinity Group Leaders of member companies of the Hispanic Chamber Cincinnati USA!\n\n\n\nLocation\n\nMeeting registrants will be sent the link to join the meeting from 12:00 PM - 1:00 PM via Zoom. (The Zoom link will be sent after registration.)\n\n\n\nPresenter\n\nPamela Rincones\n\n2nd Vice President\, Board of Directors\, Hispanic Chamber Cincinnati\n\nStrategic Inclusion\, Equity & Diversity Consultant and Leadership Development\n\n\n\nTopics include\n\n\n	Highlights on ERG/Affinity Groups from member company representatives\n	Updates from the Hispanic Chamber\n	Preparation for Hispanic Heritage Month \n	Discuss Challenges\, Needs and share Best Practices
X-ALT-DESC;FMTTYPE=text/html:<p>The Hispanic Affinity Forum (HAF) is a quarterly meeting for ERG/Affinity Group Leaders of member companies of the Hispanic Chamber Cincinnati USA!<br aria-hidden="true" font-size:="" trebuchet="" />\n<br />\n<strong>Location</strong><br />\nMeeting registrants will be sent the link to join the meeting from 12:00 PM - 1:00 PM via Zoom. (The Zoom link will be sent after registration.)<br />\n<br />\n<strong>Presenter</strong><br />\nPamela Rincones<br />\n2nd Vice President\, Board of Directors\,&nbsp\;Hispanic Chamber Cincinnati<br />\nStrategic Inclusion\, Equity &amp\; Diversity Consultant and Leadership Development<br />\n<br aria-hidden="true" font-size:="" trebuchet="" />\n<strong>Topics include</strong></p>\n\n<ul>\n	<li>Highlights on ERG/Affinity Groups from member company representatives</li>\n	<li>Updates from the Hispanic Chamber</li>\n	<li>Preparation for Hispanic Heritage Month&nbsp\;</li>\n	<li>Discuss Challenges\, Needs and share Best Practices</li>\n</ul>\n\n<div style="text-align: justify\;">&nbsp\;</div>\n
LOCATION:Zoom
UID:e.818.19036
SEQUENCE:3
DTSTAMP:20260421T033425Z
URL:https://business.hispanicchambercincinnati.com/events/details/hispanic-affinity-forum-meeting-19036
END:VEVENT

END:VCALENDAR
