BEGIN:VCALENDAR
VERSION:2.0
PRODID:-//ChamberMaster//Event Calendar 2.0//EN
METHOD:PUBLISH
X-PUBLISHED-TTL:P3D
REFRESH-INTERVAL:P3D
CALSCALE:GREGORIAN
BEGIN:VEVENT
DTSTART:20240417T160000Z
DTEND:20240417T170000Z
X-MICROSOFT-CDO-ALLDAYEVENT:FALSE
SUMMARY:Hispanic Affinity Forum meeting
DESCRIPTION:Register to attend our SECOND meeting of the Hispanic Affinity Forum (HAF) of 2024. \n\n\n\nWe'll build on last month's topic to activate your Strategic Plan with tools you can use for robust meetings\, managing membership\, and planning events. \n\n\n\nThere'll be breakouts for Hispanic ERG leaders to connect with one another to discuss challenges and how to avoid pitfalls. \n\n\n\nRegistration online is required\, and you'll be provided with the Zoom link for the meeting.\n\n\n\nPresenter\n\nPamela Rincones\n\n2nd Vice President\, Board of Directors\, Hispanic Chamber Cincinnati\n\nSenior DEI Leadership Consultant\n\n\n\n\n\nRegister by Tuesday\, April 16
X-ALT-DESC;FMTTYPE=text/html:<p>Register to attend our SECOND meeting of the Hispanic Affinity Forum (HAF) of 2024.&nbsp\;<br />\n<br />\nWe&rsquo\;ll build on last month&rsquo\;s topic to activate your Strategic Plan with tools you can use for robust meetings\, managing membership\, and planning events.&nbsp\;<br />\n<br />\nThere&#39\;ll be breakouts for Hispanic ERG leaders to connect with one another to discuss challenges and how to avoid pitfalls.&nbsp\;<br />\n<br />\n<strong>Registration online is required</strong>\, and you&rsquo\;ll be provided with the Zoom link for the meeting.<br />\n<br />\n<strong>Presenter</strong><br />\nPamela Rincones<br />\n2nd Vice President\, Board of Directors\,&nbsp\;Hispanic Chamber Cincinnati<br />\nSenior DEI Leadership Consultant<br />\n<br />\n<br />\nRegister by&nbsp\;Tuesday\, April 16</p>\n
LOCATION:Zoom
UID:e.818.19831
SEQUENCE:3
DTSTAMP:20260420T122758Z
URL:https://business.hispanicchambercincinnati.com/events/details/hispanic-affinity-forum-meeting-19831
END:VEVENT

END:VCALENDAR
