BEGIN:VCALENDAR
VERSION:2.0
PRODID:-//ChamberMaster//Event Calendar 2.0//EN
METHOD:PUBLISH
X-PUBLISHED-TTL:P3D
REFRESH-INTERVAL:P3D
CALSCALE:GREGORIAN
BEGIN:VEVENT
DTSTART:20240516T210000Z
DTEND:20240516T160000Z
X-MICROSOFT-CDO-ALLDAYEVENT:FALSE
SUMMARY:Hispanic Business Awards
DESCRIPTION:Recognizing Ohio's Hispanic-owned Business Community\n\nWelcome to the Hispanic Business Awards\, a celebration of excellence and achievement within the vibrant Hispanic business community. Each year\, we proudly spotlight remarkable individuals and enterprises whose contributions have not only shaped industries but also enriched our community's cultural tapestry. \n\n\n\nThe awards honor Hispanic-owned businesses' entrepreneurial spirit\, innovation\, and leadership\, serving as a beacon for inspiration and recognition. We invite you to be part of this extraordinary journey nominate deserving businesses that embody success\, resilience\, and community impact. Join us annually at the Gala\, where we applaud the winners\, forge connections\, and celebrate the collective strength of Hispanic entrepreneurship. Let's elevate and empower our community by acknowledging and championing the success stories that inspire us all. \n\n\n\nBe a part of the Hispanic Business Awards   where achievement knows no boundaries\, and every success story deserves a spotlight.
X-ALT-DESC;FMTTYPE=text/html:<p>Recognizing Ohio&#39\;s&nbsp\;Hispanic-owned&nbsp\;Business Community</p>\n\n<p>Welcome to the Hispanic Business Awards\, a celebration of excellence and achievement within the vibrant Hispanic business community. Each year\, we proudly spotlight remarkable individuals and enterprises whose contributions have not only shaped industries but also enriched our community&#39\;s cultural tapestry.&nbsp\;<br />\n<br />\nThe awards honor Hispanic-owned businesses&#39\; entrepreneurial spirit\, innovation\, and leadership\, serving as a beacon for inspiration and recognition. We invite you to be part of this extraordinary journey&mdash\;nominate deserving businesses that embody success\, resilience\, and community impact. Join us annually at the Gala\, where we applaud the winners\, forge connections\, and celebrate the collective strength of Hispanic entrepreneurship. Let&#39\;s elevate and empower our community by acknowledging and championing the success stories that inspire us all.&nbsp\;<br />\n<br />\nBe a part of the Hispanic Business Awards &ndash\; where achievement knows no boundaries\, and every success story deserves a spotlight.</p>\n
LOCATION:George Bellows Ballroom - Hilton Downtown Columbus
UID:e.818.19825
SEQUENCE:3
DTSTAMP:20260421T181742Z
URL:https://business.hispanicchambercincinnati.com/events/details/hispanic-business-awards-19825
END:VEVENT

END:VCALENDAR
