BEGIN:VCALENDAR
VERSION:2.0
PRODID:-//ChamberMaster//Event Calendar 2.0//EN
METHOD:PUBLISH
X-PUBLISHED-TTL:P3D
REFRESH-INTERVAL:P3D
CALSCALE:GREGORIAN
BEGIN:VEVENT
DTSTART:20221103T213000Z
DTEND:20221104T003000Z
X-MICROSOFT-CDO-ALLDAYEVENT:FALSE
SUMMARY:Hispanic Chamber Cincinnati USA - 2022 Annual Celebration & Cocktail Reception
DESCRIPTION:HISPANIC CHAMBER CINCINNATI USA \n\n2022 Annual Celebration & Cocktail Reception\n\n\n\nOUR CONTRIBUTIONS AND IMPACT ON THE CINCINNATI-METRO AREA\n\n\n\nRequests the pleasure of your company\n\nAt the 2022 Annual Event Presided over by\n\n\n\nKEYNOTE SPEAKER\n\nVisael "Bobby" Rodriguez\n\nVice President of Diversity\, Inclusion and Community Relations\n\nCincinnati Children's Hospital Medical Center\n\nThursday\, November 3\, 2022\n\n5:30 PM - 8:30 PM\n\n(Doors Open at 5:30 PM)\n\n \n\nTQL Soccer Stadium\n\n*VIP Entrance West Side\n\n1530 John Street\, Cincinnati\, OH 45214\n\nMAP\n\nSTADIUM TOURS\n\nThere will be the opportunity to take a quick 15-minute tour at the new awesome TQL stadium. Tours will start @ 6 pm and be finished by 6.45 pm and will be available to the first 90 attendees who want to take the tour and register when they arrive at the VIP entrance.\n\nCOCKTAIL RECEPTION\n\nTQL Stadium is a cashless facility (Only credit card)\n\nHeavy appetizers and two (2) drink tickets will be offered per guest\n\nDress code business casual\n\n\n\nSingle tickets available $125.00 per person\n\n[Seating is limited and on a first-come\, first-served basis.]\n\n\n\n:::: For sponsorship opportunities  ::::\n\nplease contact us\n\noffice@HispanicChamberCincinnati.com\n\nTel: (513) 979-6999\n\n\n\n\n*The best GPS address to use is the West End Garage located at 1530 John Street\, Cincinnati\, OH 45214. Once parked\, guests will walk south along John Street into a marked "Guest Entry" Pedestrian Black Gate and through marked\n\n"VIP Doors" (marked as West Premium Entry on the map). There will be a staff member to greet and welcome guests. ($5.00 parking fee)\n\n\n\n#VivaLaGala
X-ALT-DESC;FMTTYPE=text/html:<div>\n<p style="text-align: center\;"><br />\n<span style="font-size:16px\;"><strong>HISPANIC CHAMBER CINCINNATI USA&nbsp\;</strong></span><br />\n<span style="font-size:16px\;">2022 Annual Celebration &amp\; Cocktail Reception</span><br />\n<br />\n<span style="font-size:16px\;"><strong>OUR CONTRIBUTIONS AND IMPACT ON&nbsp\;THE CINCINNATI-METRO AREA</strong></span><br />\n<br />\nRequests the pleasure of your company<br />\nAt the 2022 Annual Event Presided over by<br />\n<br />\n<span style="color:#ff9966\;"><strong style="text-align: center\;">KEYNOTE SPEAKER</strong><br />\n<span style="font-size:18px\;"><strong>Visael &quot\;Bobby&quot\; Rodriguez</strong></span><br />\n<strong><span style="font-size:14px\;">Vice President of Diversity\, Inclusion and Community Relations<br />\nCincinnati Children&#39\;s Hospital Medical Center</span></strong></span></p>\n\n<p style="text-align: center\;"><strong>Thursday\, November 3\, 2022</strong><br />\n5:30 PM - 8:30 PM<br fira="" text-align:="" />\n(Doors Open&nbsp\;at 5:30 PM)<br />\n&nbsp\;</p>\n\n<p style="text-align: center\;"><strong>TQL Soccer Stadium</strong><br />\n<span style="color:#FF0000\;">*</span>VIP Entrance West Side<br />\n1530 John Street\, Cincinnati\, OH 45214<br />\n<a href="https://chambermaster.blob.core.windows.net/userfiles/UserFiles/chambers/818/File/2022/TQL_SoccerStadiumDirections.pdf">MAP</a></p>\n\n<p style="text-align: center\;"><strong>STADIUM TOURS</strong><br />\nThere will be the opportunity to take a quick 15-minute tour at the new awesome TQL stadium. Tours will start @ 6 pm and be finished by 6.45 pm and will be available to the first 90 attendees who want to take the tour and register when they arrive at the VIP entrance.</p>\n\n<p style="text-align: center\;"><strong>COCKTAIL RECEPTION</strong><br />\nTQL Stadium is a cashless facility&nbsp\;(Only credit card)<br />\nHeavy appetizers and two (2) drink&nbsp\;tickets will be offered per guest<br />\nDress code business casual<br />\n<br />\n<span style="font-size:14px\;"><span style="color:#ff9966\;"><strong>Single tickets available</strong></span><span style="color:#FF0000\;"><strong> </strong></span><span style="color:#000000\;"><strong>$125.00</strong></span><span style="color:#FF0000\;"><strong> </strong></span><span style="color:#ff9966\;"><strong>per person</strong><br />\n<strong>[Seating is limited and on a first-come\, first-served basis.]</strong></span></span></p>\n\n<p style="text-align: center\;"><br />\n<strong><span style="color:#000000\;"><span style="background-color:#ff9966\;">:::: For </span></span><a href="https://chambermaster.blob.core.windows.net/userfiles/UserFiles/chambers/818/File/2022/2022-HCCUSACOCKTAILCELEBRATION2.pdf" target="_blank"><span style="color:#000000\;"><span style="background-color:#ff9966\;">sponsorship opportunities</span></span></a><span style="color:#000000\;"><span style="background-color:#ff9966\;">&nbsp\;&nbsp\;::::</span></span></strong><br />\nplease contact us<br />\noffice@HispanicChamberCincinnati.com<br />\nTel: (513) 979-6999</p>\n</div>\n\n<p><br />\n<span style="color:#FF0000\;">*</span>The best GPS address to use is the West End Garage located at 1530 John Street\, Cincinnati\, OH 45214. Once parked\, guests will walk south along John Street into a marked &quot\;Guest Entry&quot\; Pedestrian Black Gate and through marked<br />\n&quot\;VIP Doors&quot\; (marked as West Premium Entry on the map). There will be a staff member to greet and welcome guests. ($5.00 parking fee)</p>\n\n<p style="text-align: center\;"><br />\n<em>#VivaLaGala</em></p>\n
LOCATION:TQL Soccer Stadium
UID:e.818.17890
SEQUENCE:3
DTSTAMP:20260421T184147Z
URL:https://business.hispanicchambercincinnati.com/events/details/hispanic-chamber-cincinnati-usa-2022-annual-celebration-cocktail-reception-17890
END:VEVENT

END:VCALENDAR
