BEGIN:VCALENDAR
VERSION:2.0
PRODID:-//ChamberMaster//Event Calendar 2.0//EN
METHOD:PUBLISH
X-PUBLISHED-TTL:P3D
REFRESH-INTERVAL:P3D
CALSCALE:GREGORIAN
BEGIN:VEVENT
DTSTART:20240915T190000Z
DTEND:20240915T230000Z
X-MICROSOFT-CDO-ALLDAYEVENT:FALSE
SUMMARY:Hispanic Heritage Festival
DESCRIPTION:Join in the fourth annual vibrant celebration honoring the rich history\, culture and contributions of the Hispanic and Latinx communities. Bring the whole family for an afternoon of live music performances\, traditional dance showcases\, children's activities\, authentic Hispanic cuisine and more. Various community organizations will be on-site to share about programs and their work within Hamilton County.
X-ALT-DESC;FMTTYPE=text/html:Join in the fourth annual vibrant celebration honoring the rich history\, culture and contributions of the Hispanic and Latinx communities. Bring the whole family for an afternoon of live music performances\, traditional dance showcases\, children&rsquo\;s activities\, authentic Hispanic cuisine and more. Various community organizations will be on-site to share about programs and their work within Hamilton County.
LOCATION:Sharon Woods 11450 Lebanon Road Sharonville\, OH 45241
UID:e.818.20157
SEQUENCE:3
DTSTAMP:20260420T161836Z
URL:https://business.hispanicchambercincinnati.com/events/details/hispanic-heritage-festival-09-15-2024-20157
END:VEVENT

END:VCALENDAR
