BEGIN:VCALENDAR
VERSION:2.0
PRODID:-//ChamberMaster//Event Calendar 2.0//EN
METHOD:PUBLISH
X-PUBLISHED-TTL:P3D
REFRESH-INTERVAL:P3D
CALSCALE:GREGORIAN
BEGIN:VEVENT
DTSTART:20240927T213000Z
DTEND:20240928T020000Z
X-MICROSOFT-CDO-ALLDAYEVENT:FALSE
SUMMARY:HM&B - 2024 Annual Dinner
DESCRIPTION:Celebrating 38 Years of Families Thriving\nJoin us as we celebrate 38 years of our mission to answer God's call to serve at-risk women of childbearing age and their children so that they may survive and thrive. This evening will be one of celebration as we reflect on the achievements of our families and honor those who make Healthy Moms and Babes all that it is!
X-ALT-DESC;FMTTYPE=text/html:<p>Celebrating 38 Years of Families Thriving</p>\nJoin us as we celebrate 38 years of our mission to answer God&#39\;s call to serve at-risk women of childbearing age and their children so that they may survive and thrive. This evening will be one of celebration as we reflect on the achievements of our families and honor those who make Healthy Moms and Babes all that it is!
LOCATION:Clovernook Country Club 2035 W Galbraith Road Cincinnati\, OH 45239
UID:e.818.20117
SEQUENCE:3
DTSTAMP:20260420T161458Z
URL:https://business.hispanicchambercincinnati.com/events/details/hm-b-2024-annual-dinner-20117
END:VEVENT

END:VCALENDAR
