BEGIN:VCALENDAR
VERSION:2.0
PRODID:-//ChamberMaster//Event Calendar 2.0//EN
METHOD:PUBLISH
X-PUBLISHED-TTL:P3D
REFRESH-INTERVAL:P3D
CALSCALE:GREGORIAN
BEGIN:VEVENT
DTSTART:20240306T003000Z
DTEND:20240306T021500Z
X-MICROSOFT-CDO-ALLDAYEVENT:FALSE
SUMMARY:I Believe (We Are One: Empower)
DESCRIPTION:As we recognize the tradition of the Spiritual and its place in American history\, we look to the future for opportunities to create greater equality in our society and ask ourselves "What do I believe?" The world-renowned American Spiritual Ensemble is joined by local community choirs in a grand finale concert with Summermusik strings.\n\nADOLPHUS HAILSTORK\n\nSonata da Chiesa     \n\nMARGARET BONDS (arr. Johnie Dean)\n\nCredo\n\nAmerican Spiritual Ensemble A Cappella\, Works TBD\n\nSPIRITUAL\n\nGo Down Moses\n\nSPIRITUAL (arr. Keith McCutchen/Johnie Dean)\n\nOl' Time Religion/When the Saints Go Marching In\n\nStacey Gibbs\n\nThe Hymn (Summermusik co-commission)\n\nSPIRITUAL (arr. Johnie Dean)\n\nAmen
X-ALT-DESC;FMTTYPE=text/html:<p>As we recognize the tradition of the Spiritual and its place in American history\, we look to the future for opportunities to create greater equality in our society and ask ourselves &ldquo\;What do I believe?&rdquo\; The world-renowned American Spiritual Ensemble is joined by local community choirs in a grand finale concert with Summermusik strings.</p>\n\n<p>ADOLPHUS HAILSTORK</p>\n\n<p>Sonata da Chiesa&nbsp\;&nbsp\; &nbsp\;&nbsp\;</p>\n\n<p>MARGARET BONDS (arr. Johnie Dean)</p>\n\n<p>Credo</p>\n\n<p>American Spiritual Ensemble A Cappella\, Works TBD</p>\n\n<p>SPIRITUAL</p>\n\n<p>Go Down Moses</p>\n\n<p>SPIRITUAL (arr. Keith McCutchen/Johnie Dean)</p>\n\n<p>Ol&rsquo\; Time Religion/When the Saints Go Marching In</p>\n\n<p>Stacey Gibbs</p>\n\n<p>The Hymn (Summermusik co-commission)</p>\n\n<p>SPIRITUAL (arr. Johnie Dean)</p>\n\n<p>Amen</p>\n
LOCATION:Zion Baptist Church (630 Glenwood Ave\, Cincinnati\, OH 45229)
UID:e.818.19743
SEQUENCE:3
DTSTAMP:20260421T142359Z
URL:https://business.hispanicchambercincinnati.com/events/details/i-believe-we-are-one-empower-19743
END:VEVENT

END:VCALENDAR
