BEGIN:VCALENDAR
VERSION:2.0
PRODID:-//ChamberMaster//Event Calendar 2.0//EN
METHOD:PUBLISH
X-PUBLISHED-TTL:P3D
REFRESH-INTERVAL:P3D
CALSCALE:GREGORIAN
BEGIN:VEVENT
DTSTART:20230609T113000Z
DTEND:20230609T160000Z
X-MICROSOFT-CDO-ALLDAYEVENT:FALSE
SUMMARY:Investing in Equity: Building an Inclusive Business Community 2023
DESCRIPTION:The NKY Chamber and St. Elizabeth Healthcare are partnering for Investing in Equity: Building an Inclusive Business Community\, the second annual DEI summit\, powered by Fifth Third Bank.\n\nThis event attracts more than 300 people for discussions around diversity\, equity\, inclusion and advancement in the Northern Kentucky Metro business community.\n\nLillian Dukes\, Senior Vice President of Technical Operations for Atlas Air\, will serve as this year's keynote speaker. Dukes has more than 30 years of global experience delivering strategic organizational improvements in start-up\, turnaround and mature manufacturing environments. She has driven development and change initiatives from concept through realized growth and profitability in companies such as Spirit AeroSystems\, Beechcraft Corporation\, American Airlines\, American Eagle Airlines and GE. Dukes is an advisory board member for AWESOME\, an organization that focuses on advancing women leaders in supply chain leadership\, and she received the Legendary Leadership Award in 2021. In 2022\, she was honored as one of Savoy Magazine's Most Influential Black Executives in Corporate America.\n\nFollowing the keynote presentation\, a panel discussion and breakout sessions will tackle topics such as recruiting and retaining top talent\, supplier diversity\, hiring persons with disabilities and hiring and supporting veterans.
X-ALT-DESC;FMTTYPE=text/html:<p>The NKY Chamber and St. Elizabeth Healthcare are partnering for&nbsp\;Investing in Equity: Building an Inclusive Business Community\, the second annual DEI summit\, powered by Fifth Third Bank.</p>\n\n<p>This event attracts more than 300 people for discussions around diversity\, equity\, inclusion and advancement in the Northern Kentucky Metro business community.</p>\n\n<p>Lillian Dukes\, Senior Vice President of Technical Operations for Atlas Air\, will serve as this year&rsquo\;s keynote speaker. Dukes has more than 30 years of global experience delivering strategic organizational improvements in start-up\, turnaround and mature manufacturing environments. She has driven development and change initiatives from concept through realized growth and profitability in companies such as Spirit AeroSystems\, Beechcraft Corporation\, American Airlines\, American Eagle Airlines and GE. Dukes is an advisory board member for AWESOME\, an organization that focuses on advancing women leaders in supply chain leadership\, and she received the Legendary Leadership Award in 2021. In 2022\, she was honored as one of Savoy Magazine&rsquo\;s Most Influential Black Executives in Corporate America.</p>\n\n<p>Following the keynote presentation\, a panel discussion and breakout sessions will tackle topics such as recruiting and retaining top talent\, supplier diversity\, hiring persons with disabilities and hiring and supporting veterans.</p>\n
LOCATION:St. Elizabeth Training and Education Center 3861 Olympic Blvd. Erlanger\, KY 41018
UID:e.818.18902
SEQUENCE:3
DTSTAMP:20260421T085713Z
URL:https://business.hispanicchambercincinnati.com/events/details/investing-in-equity-building-an-inclusive-business-community-2023-18902
END:VEVENT

END:VCALENDAR
