BEGIN:VCALENDAR
VERSION:2.0
PRODID:-//ChamberMaster//Event Calendar 2.0//EN
METHOD:PUBLISH
X-PUBLISHED-TTL:P3D
REFRESH-INTERVAL:P3D
CALSCALE:GREGORIAN
BEGIN:VEVENT
DTSTART:20220810T153000Z
DTEND:20220810T220000Z
X-MICROSOFT-CDO-ALLDAYEVENT:FALSE
SUMMARY:Job Fair: Aronoff Center & Music Hall
DESCRIPTION:Be a part of the team of guest services professionals at the Tristate's premiere arts venues   the Aronoff Center and Music Hall. The Cincinnati Arts Association (CAA) is pleased to present a JOB FAIR on Wednesday\, August 10\, 2022\, 11:30 AM   1:00 PM and 4:30 PM   6:00 PM at the Aronoff Center's Otto M. Budig Lobby (main lobby)\, located downtown at 650 Walnut Street between Sixth and Seventh Streets. Job seekers may attend either of two convenient shifts to learn about available part-time employment opportunities and interview on the spot. We are looking for people with outgoing personalities and an interest in guest services\, and offer flexible schedules based on your availability.
X-ALT-DESC;FMTTYPE=text/html:Be a part of the team of guest services professionals at the Tristate&rsquo\;s premiere arts venues &ndash\; the Aronoff Center and Music Hall. The Cincinnati Arts Association (CAA) is pleased to present a JOB FAIR on Wednesday\, August 10\, 2022\, 11:30 AM &ndash\; 1:00 PM and 4:30 PM &ndash\; 6:00 PM at the Aronoff Center&rsquo\;s Otto M. Budig Lobby (main lobby)\, located downtown at 650 Walnut Street between Sixth and Seventh Streets. Job seekers may attend either of two convenient shifts to learn about available part-time employment opportunities and interview on the spot. We are looking for people with outgoing personalities and an interest in guest services\, and offer flexible schedules based on your availability.
LOCATION:650 Walnut St Cincinnati\, OH 45202-2517\, United States
UID:e.818.17923
SEQUENCE:3
DTSTAMP:20260424T130324Z
URL:https://business.hispanicchambercincinnati.com/events/details/job-fair-aronoff-center-music-hall-17923
END:VEVENT

END:VCALENDAR
