BEGIN:VCALENDAR
VERSION:2.0
PRODID:-//ChamberMaster//Event Calendar 2.0//EN
METHOD:PUBLISH
X-PUBLISHED-TTL:P3D
REFRESH-INTERVAL:P3D
CALSCALE:GREGORIAN
BEGIN:VEVENT
DTSTART:20221114T003000Z
DTEND:20221114T020000Z
X-MICROSOFT-CDO-ALLDAYEVENT:FALSE
SUMMARY:Juan Carmona at The Ludlow Garage
DESCRIPTION:If Juan Carmona had to write his life's story\, it might be called "La Belle Histoire\," after the Claude Lelouch film in which he performed the soundtrack in 1992.\n\n\nThe Carmona family had emigrated from North Africa to France after being exiled in the early 1960s. Juan\, born in Lyon\, was only ten years old when his father gave him his first guitar. His passion for the instrument grew and his virtuosity was quickly remarked by professional musicians.\n\nJuan's journey as a professional guitarist next took him back to the land of his ancestors\, Spain\, to go back to his roots and imbibe at the Source   Jerez de la Frontera in Andalusia. His talent and the originality of his art were quickly recognized in this city\, known as the cradle of flamenco.\n\nFor 9 years\, he absorbed as much as he could in the purest flamenco tradition\, rubbing elbows with some of its biggest names\, like Joaqui n Grilo\, Agujetas\, Duquende\, Antonio Canales\, Chano Domi nguez and many others. He recorded his first albums and won international awards including the prestigious guitar competition International de Jerez\, finalist of the competition of the Union of Cordoba and winner of the great Paco de Lucia Awards.\n\nThe success Juan encountered in Spain was a triumph for this Gypsy of French origin. On his return to France\, he collaborated with musicians of diverse origins: Sylvain Luc\, Larry Coryell\, Marcus Miller\, Jan Garbarek\, Trilok Gurtu\, Subramanian\, Baden Povell \; each project adding a new color to his sound pallette.\n\nCreative and curious\, his thirst for learning is unquenchable and makes him what he is today : the creator of one of the most beautiful sounds on the international scene. His music is written with his memory\, his ears\, his heart and his passion.\n\nA self-taught musician\, he can boast of having composed his Sinfonia Flamenca and Orillas\, today performed by many orchestras in the world\, including the Sydney Symphony Orchestra (Australia)\, the St Louis Symphony Orchestra (USA)\, the Russian Philarmony (Russia)\, the City Chamber Orchestra of Hong Kong (Hong Kong) and the National Orchestra of Lyon (France).\n\nOn tour with his musicians around the world (United States\, China\, Canada )\, his albums Alchemya\, Orillas\, Sinfonia Flamenca and El Sentido del Aire were nominated at the Latin GRAMMY Awards\, category   Best Album Flamenco of the year  . Winner of the Grand Prize Charles Cros 2015\, UNESCO awarded him also the Grand Prize Zyriab of Virtuosos. His new opus Zyriab 6.7 (Release : 12th November 2021)\, with an exceptional cast that retraces the journey of the musician-poet Zyriab\, stopping off along the Mediterranean\, from oasis to caravanserai\, covering 6\,743 km from Baghdad to Cordoba. Each stop is a musical invitation with an emblematic artist of his country.\n\nPraised by the leading figures of flamenco\, Juan Carmona wanders on the air ways of the duende. At the intersection between musical modernity and the oldest and liveliest flamenco traditions of Andalusia\, Juan Carmona is an innovator\, one of the most valiant links of his generation.
X-ALT-DESC;FMTTYPE=text/html:<div>\n<p>If Juan Carmona had to write his life&rsquo\;s story\, it might be called &ldquo\;La Belle Histoire\,&rdquo\; after the Claude Lelouch film in which he performed the soundtrack in 1992.</p>\n</div>\n\n<p>The Carmona family had emigrated from North Africa to France after being exiled in the early 1960s. Juan\, born in Lyon\, was only ten years old when his father gave him his first guitar. His passion for the instrument grew and his virtuosity was quickly remarked by professional musicians.</p>\n\n<p>Juan&rsquo\;s journey as a professional guitarist next took him back to the land of his ancestors\, Spain\, to go back to his roots and imbibe at the Source &ndash\; Jerez de la Frontera in Andalusia. His talent and the originality of his art were quickly recognized in this city\, known as the cradle of flamenco.</p>\n\n<p>For 9 years\, he absorbed as much as he could in the purest flamenco tradition\, rubbing elbows with some of its biggest names\, like&nbsp\;Joaqui&#769\;n Grilo\, Agujetas\, Duquende\, Antonio Canales\, Chano Domi&#769\;nguez&nbsp\;and many others. He recorded his first albums and won international awards including the&nbsp\;prestigious guitar competition International de Jerez\, finalist of the competition of the Union of Cordoba&nbsp\;and winner of the great&nbsp\;Paco de Lucia Awards.</p>\n\n<p>The success Juan encountered in Spain was a triumph for this Gypsy of French origin. On his return to France\, he collaborated with musicians of diverse origins:&nbsp\;Sylvain Luc\,&nbsp\;Larry Coryell\,&nbsp\;Marcus Miller\,&nbsp\;Jan Garbarek\,&nbsp\;Trilok Gurtu\,&nbsp\;Subramanian\,&nbsp\;Baden Povell&nbsp\;\; each project adding a new color to his sound pallette.</p>\n\n<p>Creative and curious\, his thirst for learning is unquenchable and makes him what he is today : the creator of one of the most beautiful sounds on the international scene. His music is written with his memory\, his ears\, his heart and his passion.</p>\n\n<p>A self-taught musician\, he can boast of having composed his&nbsp\;Sinfonia Flamenca&nbsp\;and&nbsp\;Orillas\, today performed by many orchestras in the world\, including the&nbsp\;Sydney Symphony Orchestra&nbsp\;(Australia)\, the&nbsp\;St Louis Symphony Orchestra&nbsp\;(USA)\, the&nbsp\;Russian Philarmony&nbsp\;(Russia)\, the&nbsp\;City Chamber Orchestra of Hong Kong&nbsp\;(Hong Kong) and the&nbsp\;National Orchestra of Lyon&nbsp\;(France).</p>\n\n<p>On tour with his musicians around the world (United States\, China\, Canada&hellip\;)\, his albums&nbsp\;Alchemya\,&nbsp\;Orillas\,&nbsp\;Sinfonia Flamenca&nbsp\;and&nbsp\;El Sentido del Aire&nbsp\;were nominated at the&nbsp\;Latin GRAMMY&nbsp\;Awards\,&nbsp\;category &laquo\;&nbsp\;Best Album Flamenco of the year&nbsp\;&raquo\;. Winner of the&nbsp\;Grand Prize Charles Cros&nbsp\;2015\, UNESCO awarded him also the&nbsp\;Grand Prize Zyriab of Virtuosos. His new opus&nbsp\;Zyriab 6.7&nbsp\;(Release : 12th November 2021)\, with an exceptional cast that retraces the journey of the musician-poet Zyriab\, stopping off along the Mediterranean\, from oasis to caravanserai\, covering 6\,743 km from Baghdad to Cordoba. Each stop is a musical invitation with an emblematic artist of his country.</p>\n\n<p>Praised by the leading figures of flamenco\, Juan Carmona wanders on the air ways of the&nbsp\;duende. At the intersection between musical modernity and the oldest and liveliest flamenco traditions of Andalusia\, Juan Carmona is an innovator\, one of the most valiant links of his generation.</p>\n
LOCATION:Ludlow Garage 342 Ludlow Ave Cincinnati\, OH 45220
UID:e.818.17928
SEQUENCE:3
DTSTAMP:20260422T012746Z
URL:https://business.hispanicchambercincinnati.com/events/details/juan-carmona-at-the-ludlow-garage-17928
END:VEVENT

END:VCALENDAR
