BEGIN:VCALENDAR
VERSION:2.0
PRODID:-//ChamberMaster//Event Calendar 2.0//EN
METHOD:PUBLISH
X-PUBLISHED-TTL:P3D
REFRESH-INTERVAL:P3D
CALSCALE:GREGORIAN
BEGIN:VEVENT
DTSTART:20230617T130000Z
DTEND:20230617T180000Z
X-MICROSOFT-CDO-ALLDAYEVENT:FALSE
SUMMARY:Latino Youth Summit
DESCRIPTION:Join us at the Latino Youth Summit to enhance mental health awareness skills for youth & adults.\n\n\n\nKEYNOTE SPEAKER: \n\nCarolina Casta o Loaiza\, LPC\, CDCA Owner\, Program Coordinator\, & Facilitator of Casta o Consulting \n\n\n\nWORKSHOP TOPICS:\n\n	Maintaining good mental health for both youth & adults\n	Building positive parent/child communication skills\n	Bridging acculturation issues\n	Social media awareness \n\n\n\nEVENT DETAILS:\n\n	No fee to attend\n	Sessions in English & Spanish\n	Breakfast & lunch provided\n	Open gym time\n	Random prize giveaway (Great Wolff Lodge passes) \n\n\n\nWHO SHOULD ATTEND:\n\n	Middle school students\n	High school students\n	Parents/Caregivers
X-ALT-DESC;FMTTYPE=text/html:Join us at the Latino Youth Summit to enhance mental health awareness skills for youth &amp\; adults.<br />\n<br />\nKEYNOTE SPEAKER:&nbsp\;<br />\nCarolina Casta&ntilde\;o Loaiza\, LPC\, CDCA Owner\, Program Coordinator\, &amp\; Facilitator of Casta&ntilde\;o Consulting&nbsp\;<br />\n<br />\nWORKSHOP TOPICS:\n<ul>\n	<li>Maintaining good mental health for both youth &amp\; adults</li>\n	<li>Building positive parent/child communication skills</li>\n	<li>Bridging acculturation issues</li>\n	<li>Social media awareness&nbsp\;</li>\n</ul>\n<br />\nEVENT DETAILS:\n<ul>\n	<li>No fee to attend</li>\n	<li>Sessions in English &amp\; Spanish</li>\n	<li>Breakfast &amp\; lunch provided</li>\n	<li>Open gym time</li>\n	<li>Random prize giveaway (Great Wolff Lodge passes)&nbsp\;</li>\n</ul>\n<br />\nWHO SHOULD ATTEND:\n<ul>\n	<li>Middle school students</li>\n	<li>High school students</li>\n	<li>Parents/Caregivers</li>\n</ul>\n
LOCATION:3220 Central Parkway Cincinnati\, Ohio 45225
UID:e.818.18909
SEQUENCE:3
DTSTAMP:20260421T074024Z
URL:https://business.hispanicchambercincinnati.com/events/details/latino-youth-summit-18909
END:VEVENT

END:VCALENDAR
