BEGIN:VCALENDAR
VERSION:2.0
PRODID:-//ChamberMaster//Event Calendar 2.0//EN
METHOD:PUBLISH
X-PUBLISHED-TTL:P3D
REFRESH-INTERVAL:P3D
CALSCALE:GREGORIAN
BEGIN:VEVENT
DTSTART:20221012T213000Z
DTEND:20221012T223000Z
X-MICROSOFT-CDO-ALLDAYEVENT:FALSE
SUMMARY:LULAC's Candidates Night for Hamilton County
DESCRIPTION:You are invited to attend LULAC's Candidates Night for Hamilton County on:\n\nWednesday\, October 12 at 5:30 PM\n\nCenter for Closing the Health Gap\n\n3120 Burnet Avenue\, Suite 201\n\nCincinnati\, OH 45201\n\nParking:   Park in the parking garage on the 100th level\, and walk thru both sets of double doors to the end of the hallway Suite 201 is on your left\n\nBelow are further details. Please RSVP to Lourdes Ribera (lribera@LULAC.org) by October 5.
X-ALT-DESC;FMTTYPE=text/html:<p>You are invited to attend LULAC&#39\;s Candidates Night for Hamilton County on:</p>\n\n<p>Wednesday\, October 12 at 5:30 PM<br />\nCenter for Closing the Health Gap<br />\n3120 Burnet Avenue\, Suite 201<br />\nCincinnati\, OH 45201</p>\n\n<p>Parking:&nbsp\;&nbsp\;&nbsp\;Park in the parking garage on the 100th&nbsp\;level\, and walk thru both sets of double doors to the end of the hallway Suite 201 is on your left</p>\n\n<p>Below are further details.&nbsp\;Please RSVP to Lourdes Ribera (<a href="mailto:lribera@LULAC.org" target="_blank">lribera@LULAC.org</a>) by&nbsp\;October 5.&nbsp\;</p>\n
LOCATION:Wednesday\, October 12 at 5:30 PM Center for Closing the Health Gap 3120 Burnet Avenue\, Suite 201 Cincinnati\, OH 45201 Parking: Park in the parking garage on the 100th level\, and walk thru both sets of double doors to the end of the hallway Suite 201 is on your left
UID:e.818.18199
SEQUENCE:3
DTSTAMP:20260421T234442Z
URL:https://business.hispanicchambercincinnati.com/events/details/lulac-s-candidates-night-for-hamilton-county-18199
END:VEVENT

END:VCALENDAR
