BEGIN:VCALENDAR
VERSION:2.0
PRODID:-//ChamberMaster//Event Calendar 2.0//EN
METHOD:PUBLISH
X-PUBLISHED-TTL:P3D
REFRESH-INTERVAL:P3D
CALSCALE:GREGORIAN
BEGIN:VEVENT
DTSTART:20250224T153000Z
DTEND:20250224T180000Z
X-MICROSOFT-CDO-ALLDAYEVENT:FALSE
SUMMARY:Lunch & Learn: Circulating the Dollar in Our Communities
DESCRIPTION:Money moves fast but what if we could make it work for us before it leaves our hands? This training is a deep dive into the power of cooperative economics\, the impact of intentional spending\, and how local businesses and financial institutions can be key players in building lasting wealth in our communities. Whether you're an entrepreneur\, a consumer\, or a community advocate\, this session will equip you with strategies to keep wealth circulating longer where it matters most.\n\nWhat you'll learn:\n\n\n	How your spending impacts community wealth\n	Ways to maximize the power of your dollar with smart financial choices\n	Strategies to leverage banks and financing institutions to support local growth\n\n\nRegister today to enjoy a delicious complimentary lunch and walk away with practical tools to attract customers\, build partnerships\, and create resilient businesses and communities.
X-ALT-DESC;FMTTYPE=text/html:<p>Money moves fast&mdash\;but what if we could make it work for us before it leaves our hands? This training is a deep dive into the power of cooperative economics\, the impact of intentional spending\, and how local businesses and financial institutions can be key players in building lasting wealth in our communities. Whether you&#39\;re an entrepreneur\, a consumer\, or a community advocate\, this session will equip you with strategies to keep wealth circulating longer where it matters most.</p>\n\n<p>What you&#39\;ll learn:</p>\n\n<ul>\n	<li>How your spending impacts community wealth</li>\n	<li>Ways to maximize the power of your dollar with smart financial choices</li>\n	<li>Strategies to leverage banks and financing institutions to support local growth</li>\n</ul>\n\n<p>Register today to enjoy a delicious&nbsp\;complimentary lunch&nbsp\;and walk away with practical tools to attract customers\, build partnerships\, and create resilient businesses and communities.</p>\n
LOCATION:Alloy Development Co. 1776 Mentor Avenue Room 129 Cincinnati\, OH 45212
UID:e.818.21175
SEQUENCE:3
DTSTAMP:20260423T092326Z
URL:https://business.hispanicchambercincinnati.com/events/details/lunch-learn-circulating-the-dollar-in-our-communities-21175
END:VEVENT

END:VCALENDAR
