BEGIN:VCALENDAR
VERSION:2.0
PRODID:-//ChamberMaster//Event Calendar 2.0//EN
METHOD:PUBLISH
X-PUBLISHED-TTL:P3D
REFRESH-INTERVAL:P3D
CALSCALE:GREGORIAN
BEGIN:VEVENT
DTSTART:20230630T160000Z
DTEND:20230630T170000Z
X-MICROSOFT-CDO-ALLDAYEVENT:FALSE
SUMMARY:Lunch & Learn | Transform Cincy
DESCRIPTION:Explore Cincinnati's past\, present\, and future during our Lunch & Learn events!\n\n\n\nGuest speakers are local experts who'll reveal the Queen City's culture from new perspectives.\n\n\n\nSpeaker | Tristan N. Vaught
X-ALT-DESC;FMTTYPE=text/html:Explore Cincinnati&rsquo\;s past\, present\, and future during our Lunch &amp\; Learn events!<br />\n<br />\nGuest speakers are local experts who&rsquo\;ll reveal the Queen City&rsquo\;s culture from new perspectives.<br />\n<br />\nSpeaker | Tristan N. Vaught
LOCATION:Taft Museum of Art 316 Pike St\, Cincinnati\, OH 45202
UID:e.818.18996
SEQUENCE:3
DTSTAMP:20260421T084501Z
URL:https://business.hispanicchambercincinnati.com/events/details/lunch-learn-transform-cincy-18996
END:VEVENT

END:VCALENDAR
