BEGIN:VCALENDAR
VERSION:2.0
PRODID:-//ChamberMaster//Event Calendar 2.0//EN
METHOD:PUBLISH
X-PUBLISHED-TTL:P3D
REFRESH-INTERVAL:P3D
CALSCALE:GREGORIAN
BEGIN:VEVENT
DTSTART:20211216T150000Z
DTEND:20211216T160000Z
X-MICROSOFT-CDO-ALLDAYEVENT:FALSE
SUMMARY:Maneje Mejor su Dinero y su Negocio\, y Tome Mejores Decisiones Financieras
DESCRIPTION:MasterYourCard estar  impartiendo este taller "Maneje Mejor su Dinero y su Negocio\, y Tome Mejores Decisiones Financieras" para todos los due os de empresa. Aceptar tarjetas de cr dito\, d bito y prepagadas ayuda a que su negocio crezca mientras le ahorra tiempo y dinero. Este taller cubrir  las herramientas que puede aprovechar para hacer crecer su negocio y su comunidad\, con la ayuda de los pagos electr nicos. English: MasterYourCard will teach this workshop: "Better Manage Your Money and Your Business\, and Make Better Financial Decisions\," for Hispanic small business owners. Accepting credit\, debit and prepaid cards helps your business grow while saving time and money. This workshop will cover the tools you can take advantage of to grow your business and your community with the help of electronic payments.
X-ALT-DESC;FMTTYPE=text/html:MasterYourCard estar&aacute\; impartiendo este taller &ldquo\;Maneje Mejor su Dinero y su Negocio\, y Tome Mejores Decisiones Financieras&quot\; para todos los due&ntilde\;os de empresa. Aceptar tarjetas de cr&eacute\;dito\, d&eacute\;bito y prepagadas ayuda a que su negocio crezca mientras le ahorra tiempo y dinero. Este taller cubrir&aacute\; las herramientas que puede aprovechar para hacer crecer su negocio y su comunidad\, con la ayuda de los pagos electr&oacute\;nicos. English: MasterYourCard will teach this workshop: &quot\;Better Manage Your Money and Your Business\, and Make Better Financial Decisions\,&quot\; for Hispanic small business owners. Accepting credit\, debit and prepaid cards helps your business grow while saving time and money. This workshop will cover the tools you can take advantage of to grow your business and your community with the help of electronic payments.
LOCATION:Zoom Language: Spanish
UID:e.818.17654
SEQUENCE:3
DTSTAMP:20260420T225950Z
URL:https://business.hispanicchambercincinnati.com/events/details/maneje-mejor-su-dinero-y-su-negocio-y-tome-mejores-decisiones-financieras-17654
END:VEVENT

END:VCALENDAR
