BEGIN:VCALENDAR
VERSION:2.0
PRODID:-//ChamberMaster//Event Calendar 2.0//EN
METHOD:PUBLISH
X-PUBLISHED-TTL:P3D
REFRESH-INTERVAL:P3D
CALSCALE:GREGORIAN
BEGIN:VEVENT
DTSTART:20250302T150000Z
DTEND:20250302T210000Z
X-MICROSOFT-CDO-ALLDAYEVENT:FALSE
SUMMARY:Mardi Gras Tasting Event
DESCRIPTION:Mardi Gras is BACK at Findlay Market! \n\nYou asked\, and we listened Mardi Gras is making its grand return to Findlay Market\, and this time\, we're going BIGGER & BETTER! We're moving FAST (maybe a little crazy\, but so are we) to bring you our first-ever Mardi Gras Tasting Event featuring festive bites and bold flavors from your favorite Market Merchants.\n\nJoin us next Sunday\, March 2nd\, for a one-day-only celebration filled with Mardi Gras-themed samples think gumbo\, king cake\, beignets\, jambalaya\, and more! \n\nTickets\n\nTasting event tickets are sold in bundles. One ticket = one sample. \n\n\n	8 for $20\n	 18 for $40
X-ALT-DESC;FMTTYPE=text/html:<p>Mardi Gras is BACK at Findlay Market!&nbsp\;</p>\n\n<p>You asked\, and we listened&mdash\;Mardi Gras is making its grand return to Findlay Market\, and this time\, we&#39\;re going BIGGER &amp\; BETTER! We&rsquo\;re moving FAST (maybe a little crazy\, but so are we) to bring you our first-ever Mardi Gras Tasting Event featuring festive bites and bold flavors from your favorite Market Merchants.</p>\n\n<p>Join us next Sunday\, March 2nd\, for a one-day-only celebration filled with Mardi Gras-themed samples&mdash\;think gumbo\, king cake\, beignets\, jambalaya\, and more!&nbsp\;</p>\n\n<p>Tickets<br />\nTasting event tickets are sold in bundles. One ticket = one sample.&nbsp\;</p>\n\n<ul>\n	<li>8 for $20</li>\n	<li>&#8203\;18 for $40</li>\n</ul>\n
LOCATION:1801 Race Street Cincinnati\, OH 45202
UID:e.818.21247
SEQUENCE:3
DTSTAMP:20260423T124315Z
URL:https://business.hispanicchambercincinnati.com/events/details/mardi-gras-tasting-event-21247
END:VEVENT

END:VCALENDAR
