BEGIN:VCALENDAR
VERSION:2.0
PRODID:-//ChamberMaster//Event Calendar 2.0//EN
METHOD:PUBLISH
X-PUBLISHED-TTL:P3D
REFRESH-INTERVAL:P3D
CALSCALE:GREGORIAN
BEGIN:VEVENT
DTSTART:20230316T120000Z
DTEND:20230316T153000Z
X-MICROSOFT-CDO-ALLDAYEVENT:FALSE
SUMMARY:Miami Opportunities for Regional Employers (MORE): Commitment to Diversity
DESCRIPTION:Are you or anyone that you know:\n\n	Looking for new ways to diversify your workforce?\n	wanting to become certified as a Minority Business Enterprise (MBE) in Ohio?\n	interested in doing business or partnering with Miami University?\n	searching for help with your workforce development and retention?\n	hoping to engage with Miami students or academic departments?\n\n\nWhatever your current needs may be\, we offer MORE- Miami Opportunities for Regional Employers.\n\n \n\nMORE Workshop Series\n\nMarch 16\, 2023\n\nA Commitment to Diversity\n\nBreakfast starts @ 8:00 a.m.\n\nWorkshop starts @ 8:30 a.m.\n\n \n\nOpening Remarks by Dr. Ande Durojaiye & Dr. Bennyce Hamilton\n\nOpening Session by Mark Taylor\, Chief Procurement Officer: How to Do Business with Miami University\n\n \n\nSessions featuring: Dr. Cristina Alcalde\, VP of Institutional Diversity & Inclusion\; Ekaterina Gay\, Director of Work+\; Brooke Flinders\, Interim Associate Dean for Academic Affairs\; Samy Broyles\, Director of Community & Alumni Engagement\; Janet Hurn\, Sr. Director of E-Campus\; Erica Crawford\, Microcredentials Program Manager\; Women's Business Enterprise Council - Ohio River Valley\, Urban League of Greater Southwestern Ohio & many more! Register here \n\n \n\nMiami University Regionals\n\nEmpowering Minds\, Strengthening Communities\n\n \n\nLooking forward to seeing you there. Please share if you know someone who might be interested in this information!
X-ALT-DESC;FMTTYPE=text/html:Are you or anyone that you know:\n<ul>\n	<li>Looking for new ways to diversify your workforce?</li>\n	<li>wanting to become certified as a Minority Business Enterprise (MBE) in Ohio?</li>\n	<li>interested in doing business or partnering with Miami University?</li>\n	<li>searching for help with your workforce development and retention?</li>\n	<li>hoping to engage with Miami students or academic departments?</li>\n</ul>\n\n<div>Whatever your current needs may be\, we offer MORE- Miami Opportunities for Regional Employers.</div>\n\n<div>&nbsp\;</div>\n\n<div>MORE Workshop Series</div>\n\n<div>March 16\, 2023</div>\n\n<div>A Commitment to Diversity</div>\n\n<div>Breakfast starts @ 8:00 a.m.</div>\n\n<div>Workshop starts @ 8:30 a.m.</div>\n\n<div>&nbsp\;</div>\n\n<div>Opening Remarks by Dr. Ande Durojaiye &amp\; Dr. Bennyce Hamilton</div>\n\n<div>Opening Session by Mark Taylor\, Chief Procurement Officer: How to Do Business with Miami University</div>\n\n<div>&nbsp\;</div>\n\n<div>Sessions featuring: Dr. Cristina Alcalde\, VP of Institutional Diversity &amp\; Inclusion\; Ekaterina Gay\, Director of Work+\; Brooke Flinders\, Interim Associate Dean for Academic Affairs\; Samy Broyles\, Director of Community &amp\; Alumni Engagement\; Janet Hurn\, Sr. Director of E-Campus\; Erica Crawford\, Microcredentials Program Manager\; Women&#39\;s Business Enterprise Council - Ohio River Valley\, Urban League of Greater Southwestern Ohio &amp\; many more!&nbsp\;<a data-saferedirecturl="https://www.google.com/url?q=https://applyregionals.miamioh.edu/register/?id%3Df5900fd0-0c80-4284-a945-6b69e1509d4b&amp\;source=gmail&amp\;ust=1674314707932000&amp\;usg=AOvVaw2BP7F5p7N4y5x-NNYpEiys" href="https://applyregionals.miamioh.edu/register/?id=f5900fd0-0c80-4284-a945-6b69e1509d4b" target="_blank">Register here&nbsp\;</a></div>\n\n<div>&nbsp\;</div>\n\n<div>Miami University Regionals</div>\n\n<div>Empowering Minds\, Strengthening Communities</div>\n\n<div>&nbsp\;</div>\n\n<div>Looking forward to seeing you there. Please share if you know someone who might be interested in this information!</div>\n\n<div>&nbsp\;</div>\n
LOCATION:Miami University Voice of America Learning Center 7847 VOA Park Drive West Chester\, OH 45069 United States
UID:e.818.18581
SEQUENCE:3
DTSTAMP:20260423T185436Z
URL:https://business.hispanicchambercincinnati.com/events/details/miami-opportunities-for-regional-employers-more-commitment-to-diversity-18581
END:VEVENT

END:VCALENDAR
