BEGIN:VCALENDAR
VERSION:2.0
PRODID:-//ChamberMaster//Event Calendar 2.0//EN
METHOD:PUBLISH
X-PUBLISHED-TTL:P3D
REFRESH-INTERVAL:P3D
CALSCALE:GREGORIAN
BEGIN:VEVENT
DTSTART:20230505T233000Z
DTEND:20230506T013000Z
X-MICROSOFT-CDO-ALLDAYEVENT:FALSE
SUMMARY:Miami University Symphony Orchestra Concert
DESCRIPTION:The Miami University Symphony Orchestra\, directed by Ricardo Averbach\, presents a special concert featuring the top three winners of Miami's 2023 Concerto Competition The concert is free.\n\nThe program includes: \n\n\n	Matt Silva de Souza\, a master's in Music Performance graduate student from Brazil\, who will perform Mozart's 2nd Horn Concerto.\n	Franklin Sandoval\, a master's in Music Performance graduate student\, who will perform Schumann's Cello Concerto. Sandoval is a two-time winner of the University of North Florida's Concerto Competition\, his alma mater.\n	Alec Reder\, a junior Music Education major\, who will perform "Fantasia for Alto Saxophone" by Claude Smith.\n\n\nThis year\, in celebration of the 120th anniversary of the Miami Orchestra program\, the Department of Music created a Composition Competition for Miami students.\n\nEzra Simmons\, a sophomore Flute Performance and Music Composition double major\, won with his composition "Daydreams from the Countryside."  Simmons' composition will be premiered by the MUSO.
X-ALT-DESC;FMTTYPE=text/html:<p>The Miami University Symphony Orchestra\, directed by&nbsp\;<a href="https://miamioh.edu/cca/academics/departments/music/about/faculty-staff/conductors/ricardo-averbach/index.html">Ricardo Averbach</a>\, presents a special concert featuring the top three winners of Miami&rsquo\;s 2023 Concerto Competition The concert is free.</p>\n\n<p>The program includes:&nbsp\;</p>\n\n<ul>\n	<li>Matt Silva de Souza\, a master&rsquo\;s in Music Performance graduate student from Brazil\, who will perform Mozart&rsquo\;s 2nd&nbsp\;Horn Concerto.</li>\n	<li>Franklin Sandoval\, a master&rsquo\;s in Music Performance graduate student\, who will perform Schumann&rsquo\;s Cello Concerto. Sandoval is a two-time winner of the University of North Florida&rsquo\;s Concerto Competition\, his alma mater.</li>\n	<li>Alec Reder\, a junior Music Education major\, who will perform &ldquo\;Fantasia for Alto Saxophone&rdquo\; by Claude Smith.</li>\n</ul>\n\n<p>This year\, in celebration of the 120th&nbsp\;anniversary of the Miami Orchestra program\, the Department of Music created a Composition Competition for Miami students.</p>\n\n<p>Ezra Simmons\, a sophomore Flute Performance and Music Composition double major\, won with his composition &ldquo\;Daydreams from the Countryside.&rdquo\;&nbsp\;&nbsp\;Simmons&rsquo\; composition will be premiered by the MUSO.&nbsp\; &nbsp\;</p>\n
LOCATION:Hall Auditorium 101 S. Campus Ave. Oxford\, OH 45056
UID:e.818.18774
SEQUENCE:3
DTSTAMP:20260421T103201Z
URL:https://business.hispanicchambercincinnati.com/events/details/miami-university-symphony-orchestra-concert-18774
END:VEVENT

END:VCALENDAR
