BEGIN:VCALENDAR
VERSION:2.0
PRODID:-//ChamberMaster//Event Calendar 2.0//EN
METHOD:PUBLISH
X-PUBLISHED-TTL:P3D
REFRESH-INTERVAL:P3D
CALSCALE:GREGORIAN
BEGIN:VEVENT
DTSTART:20230603T160000Z
DTEND:20230603T173000Z
X-MICROSOFT-CDO-ALLDAYEVENT:FALSE
SUMMARY:Move With Mutual
DESCRIPTION:LEARN MODERN DANCE WITH MUTUAL DANCE THEATRE\n\nSATURDAY\, JUNE 3\, 2023\, AT 12 PM\n\n\n\nNever danced before? Not a problem. Dance a ton? Also not a problem. Join MDT's Jasmine Snellen for a Modern Dance For All class. Pre-registration requested.\n\nWEBSITE LINK: https://www.mutualdance.org/archive/2022-2023/movewithmutual/
X-ALT-DESC;FMTTYPE=text/html:<p>LEARN MODERN DANCE WITH MUTUAL DANCE THEATRE<br />\nSATURDAY\, JUNE 3\, 2023\, AT 12 PM<br />\n<br />\nNever danced before? Not a problem. Dance a ton? Also not a problem. Join MDT&rsquo\;s Jasmine Snellen for a Modern Dance For All class. Pre-registration requested.</p>\n\n<p>WEBSITE LINK:&nbsp\;<a data-saferedirecturl="https://www.google.com/url?q=https://www.mutualdance.org/archive/2022-2023/movewithmutual/&amp\;source=gmail&amp\;ust=1672845053488000&amp\;usg=AOvVaw2JMnKkFalevAn6XaLjW-YL" href="https://www.mutualdance.org/archive/2022-2023/movewithmutual/" target="_blank">https://www.mutualdance.<wbr />org/archive/2022-2023/<wbr />movewithmutual/</a></p>\n\n<div>&nbsp\;</div>\n
LOCATION:MAC Hartwell 8222 Monon Ave Cincinnati\, OH 45216
UID:e.818.18551
SEQUENCE:3
DTSTAMP:20260421T073848Z
URL:https://business.hispanicchambercincinnati.com/events/details/move-with-mutual-18551
END:VEVENT

END:VCALENDAR
