BEGIN:VCALENDAR
VERSION:2.0
PRODID:-//ChamberMaster//Event Calendar 2.0//EN
METHOD:PUBLISH
X-PUBLISHED-TTL:P3D
REFRESH-INTERVAL:P3D
CALSCALE:GREGORIAN
BEGIN:VEVENT
DTSTART:20240403T220000Z
DTEND:20240404T003000Z
X-MICROSOFT-CDO-ALLDAYEVENT:FALSE
SUMMARY:NAMI - Community Conversation
DESCRIPTION:NAMI URBAN GREATER CINCINNATI PRESENTS OUR MONTHLY COMMUNITY CONVERSATION\n\nGUEST SPEAKER:\n\nSUE PLUMMER\n\nSue Plummer works for Society of St. Andrew as a program coordinator. Working with SoSA's regional Indiana and national offices\, I continue to expand our gleaning network in Ohio\, working with (and building partnerships among) local farmers\, volunteers\, and multiple organizations working to end hunger in our world. End Hunger which is part of the Society of St. Andrew.\n\n\n	 JOIN IN ON A GREAT CONVERSATION\n	 BRING YOUR FAVORITE DISH TO SHARE\n	 ALL ARE WELCOME TO ATTEND\n\n\n\nDate & Time:\n\nApril 3rd\, 2024\n\n6:00 PM-8:30 PM\n\n\n\nLocation:\n\nWalnut Hills Branch Library\n\n2533 Kemper Ln.\, Cincinnati\, OH 45206\n\n\n\nFor more information contact Sharon McCutchen at smccutcchen.nami@outlook.com or (513) 961-NAMI (6264) or (513) 378-7049
X-ALT-DESC;FMTTYPE=text/html:<p>NAMI URBAN GREATER CINCINNATI PRESENTS OUR MONTHLY COMMUNITY CONVERSATION</p>\n\n<p>GUEST SPEAKER:<br />\nSUE PLUMMER</p>\n\n<p>Sue Plummer works for Society of St. Andrew as a program coordinator. Working with SoSA&rsquo\;s regional Indiana and national offices\, I continue to expand our gleaning network in Ohio\, working with (and building partnerships among) local farmers\, volunteers\, and multiple organizations working to end hunger in our world. End Hunger which is part of the Society of St. Andrew.</p>\n\n<ul>\n	<li>&#65279\;JOIN IN ON A GREAT CONVERSATION</li>\n	<li>&#65279\;BRING YOUR FAVORITE DISH TO SHARE</li>\n	<li>&#65279\;ALL ARE WELCOME TO ATTEND</li>\n</ul>\n\n<div>\n<p>Date &amp\; Time:<br />\nApril 3rd\, 2024<br />\n6:00 PM-8:30 PM</p>\n</div>\n\n<div>\n<p>Location:<br />\nWalnut Hills Branch Library<br />\n2533 Kemper Ln.\, Cincinnati\, OH 45206<br />\n<br />\nFor more information contact Sharon McCutchen at smccutcchen.nami@outlook.com or (513) 961-NAMI (6264) or (513) 378-7049</p>\n</div>\n
LOCATION:Walnut Hills Branch Library 2533 Kemper Ln.\, Cincinnati\, OH 45206
UID:e.818.19887
SEQUENCE:3
DTSTAMP:20260421T144452Z
URL:https://business.hispanicchambercincinnati.com/events/details/nami-community-conversation-19887
END:VEVENT

END:VCALENDAR
