BEGIN:VCALENDAR
VERSION:2.0
PRODID:-//ChamberMaster//Event Calendar 2.0//EN
METHOD:PUBLISH
X-PUBLISHED-TTL:P3D
REFRESH-INTERVAL:P3D
CALSCALE:GREGORIAN
BEGIN:VEVENT
DTSTART:20240904T220000Z
DTEND:20240905T003000Z
X-MICROSOFT-CDO-ALLDAYEVENT:FALSE
SUMMARY:NAMI - Community Conversation
DESCRIPTION:NAMI URBAN GREATER CINCINNATI PRESENTS OUR MONTHLY COMMUNITY CONVERSATION\n\nSpecial Guest Speaker\n\nANNA ALBI\n\n \n\nANNA IS A GUN VIOLENCE PREVENTION AND COMMUNITY ADVOCATE.\n\nAS A LOCAL GROUP LEAD FOR MOMS DEMAND ACTION IN CINCINNATI\, ANNA WORKS WITH ELECTED OFFICIALS AND LAW ENFORCEMENT.\n\nCOMMUNITY PARTNERS AND MORE TO PROMOTE GUN SAFETY AND WORK TOWARDS SOLUTIONS THAT WILL REDUCE GUN VIOLENCE.\n\n \n\nJOIN US FOR A GREAT CONVERSATION BRING YOUR FAVORITE DISH TO SHARE\n\n \n\nContact us for more information 513-961-6264
X-ALT-DESC;FMTTYPE=text/html:<p>NAMI URBAN GREATER CINCINNATI PRESENTS OUR MONTHLY COMMUNITY CONVERSATION</p>\n\n<p>Special Guest Speaker<br />\nANNA ALBI<br />\n&nbsp\;</p>\n\n<p>ANNA IS A GUN VIOLENCE PREVENTION AND COMMUNITY ADVOCATE.</p>\n\n<p>AS A LOCAL GROUP LEAD FOR MOMS DEMAND ACTION IN CINCINNATI\, ANNA WORKS WITH ELECTED OFFICIALS AND LAW ENFORCEMENT.</p>\n\n<p>COMMUNITY PARTNERS AND MORE TO PROMOTE GUN SAFETY AND WORK TOWARDS SOLUTIONS THAT WILL REDUCE GUN VIOLENCE.</p>\n\n<p>&nbsp\;</p>\n\n<p>JOIN US FOR A GREAT CONVERSATION BRING YOUR FAVORITE DISH TO SHARE<br />\n&nbsp\;</p>\n\n<p>Contact us for more information 513-961-6264</p>\n&nbsp\;\n\n<div>&nbsp\;</div>\n
LOCATION:5742 Hamilton Ave Cincinnati\, Ohio 45224
UID:e.818.20149
SEQUENCE:3
DTSTAMP:20260420T155922Z
URL:https://business.hispanicchambercincinnati.com/events/details/nami-community-conversation-20149
END:VEVENT

END:VCALENDAR
