BEGIN:VCALENDAR
VERSION:2.0
PRODID:-//ChamberMaster//Event Calendar 2.0//EN
METHOD:PUBLISH
X-PUBLISHED-TTL:P3D
REFRESH-INTERVAL:P3D
CALSCALE:GREGORIAN
BEGIN:VEVENT
DTSTART:20250225T213000Z
DTEND:20250225T233000Z
X-MICROSOFT-CDO-ALLDAYEVENT:FALSE
SUMMARY:Newport Business Council - Business Social
DESCRIPTION:Join us for the  Newport Business Council Networking Social on Tuesday\, February 25\, 2025 from 4:30-6:30 PM at Newport on the Levee - Par 3 area.\n\nEnjoy complimentary appetizers provided by Par 3 and a cash bar while networking with other business leaders. \n\nThere will be parking vouchers available for the first 40 guests to arrive to the business social. \n\nEvent Contact\n\nBeth Farrer\n\n(859) 578-6399
X-ALT-DESC;FMTTYPE=text/html:<p>Join us for the&nbsp\;&nbsp\;Newport Business Council&nbsp\;Networking&nbsp\;Social&nbsp\;on&nbsp\;Tuesday\, February 25\, 2025&nbsp\;from&nbsp\;4:30-6:30 PM&nbsp\;at&nbsp\;<a fr-original-style="" href="https://www.newportonthelevee.com/">Newport on the Levee</a>&nbsp\;- Par 3 area.</p>\n\n<p>Enjoy complimentary appetizers provided by Par 3 and a cash bar while networking with other business leaders.&nbsp\;</p>\n\n<p>There will be parking vouchers available for the first 40 guests to arrive to the business social.&nbsp\;</p>\n\n<p>Event Contact<br />\nBeth Farrer<br />\n<a href="tel:8595786399" title="Primary Phone">(859) 578-6399</a></p>\n
LOCATION:Newport on the Levee 1 Levee Way\, Par 3 Area Newport\, KY 41071 United States
UID:e.818.21237
SEQUENCE:3
DTSTAMP:20260423T093158Z
URL:https://business.hispanicchambercincinnati.com/events/details/newport-business-council-business-social-21237
END:VEVENT

END:VCALENDAR
